BEGIN:VCALENDAR
VERSION:2.0
PRODID:-//Future Faculty and Academic Careers - ECPv6.15.20//NONSGML v1.0//EN
CALSCALE:GREGORIAN
METHOD:PUBLISH
X-ORIGINAL-URL:https://futurefaculty.cornell.edu
X-WR-CALDESC:Events for Future Faculty and Academic Careers
REFRESH-INTERVAL;VALUE=DURATION:PT1H
X-Robots-Tag:noindex
X-PUBLISHED-TTL:PT1H
BEGIN:VTIMEZONE
TZID:America/New_York
BEGIN:DAYLIGHT
TZOFFSETFROM:-0500
TZOFFSETTO:-0400
TZNAME:EDT
DTSTART:20180311T070000
END:DAYLIGHT
BEGIN:STANDARD
TZOFFSETFROM:-0400
TZOFFSETTO:-0500
TZNAME:EST
DTSTART:20181104T060000
END:STANDARD
BEGIN:DAYLIGHT
TZOFFSETFROM:-0500
TZOFFSETTO:-0400
TZNAME:EDT
DTSTART:20190310T070000
END:DAYLIGHT
BEGIN:STANDARD
TZOFFSETFROM:-0400
TZOFFSETTO:-0500
TZNAME:EST
DTSTART:20191103T060000
END:STANDARD
BEGIN:DAYLIGHT
TZOFFSETFROM:-0500
TZOFFSETTO:-0400
TZNAME:EDT
DTSTART:20200308T070000
END:DAYLIGHT
BEGIN:STANDARD
TZOFFSETFROM:-0400
TZOFFSETTO:-0500
TZNAME:EST
DTSTART:20201101T060000
END:STANDARD
END:VTIMEZONE
BEGIN:VEVENT
DTSTART;TZID=America/New_York:20190125T120000
DTEND;TZID=America/New_York:20190125T133000
DTSTAMP:20260423T001702
CREATED:20181205T220942Z
LAST-MODIFIED:20221003T200315Z
UID:10002047-1548417600-1548423000@futurefaculty.cornell.edu
SUMMARY:Job Search Discussion
DESCRIPTION:Are you a postdoc or graduate student applying for academic jobs now or in the near future? Come join a lunch discussion with others in the same stage\, facilitated by the Office of Postdoctoral Studies and CIRTL at Cornell. We’re gathering a community of peers to help find advice\, support\, and feedback. Bring questions and we’ll provide lunch! RSVP required. \nNote: Please check in with organizers in the rear greenhouse section of the Big Red Barn upon arrival to get your lunch voucher. We recommend arriving a few minutes early. \nCo-sponsored by the Center for the Integration of Research\, Teaching\, and Learning (CIRTL at Cornell) and the Office of Postdoctoral Studies\, as part of the Academic Job Search Series. 
URL:https://futurefaculty.cornell.edu/event/job-search-discussion-3/
LOCATION:The Big Red Barn\, Big Red Barn\, Sciences Drive\, Ithaca\, NY\, 14853\, United States
CATEGORIES:Future Faculty and Academic Careers
ATTACH;FMTTYPE=image/jpeg:https://futurefaculty.cornell.edu/wp-content/uploads/2019/01/IMG_9767.jpg
GEO:42.4484227;-76.4810282
X-APPLE-STRUCTURED-LOCATION;VALUE=URI;X-ADDRESS=The Big Red Barn Big Red Barn Sciences Drive Ithaca NY 14853 United States;X-APPLE-RADIUS=500;X-TITLE=Big Red Barn\, Sciences Drive:geo:-76.4810282,42.4484227
END:VEVENT
END:VCALENDAR