BEGIN:VCALENDAR
VERSION:2.0
PRODID:-//Future Faculty and Academic Careers - ECPv6.15.20//NONSGML v1.0//EN
CALSCALE:GREGORIAN
METHOD:PUBLISH
X-WR-CALNAME:Future Faculty and Academic Careers
X-ORIGINAL-URL:https://futurefaculty.cornell.edu
X-WR-CALDESC:Events for Future Faculty and Academic Careers
REFRESH-INTERVAL;VALUE=DURATION:PT1H
X-Robots-Tag:noindex
X-PUBLISHED-TTL:PT1H
BEGIN:VTIMEZONE
TZID:America/New_York
BEGIN:DAYLIGHT
TZOFFSETFROM:-0500
TZOFFSETTO:-0400
TZNAME:EDT
DTSTART:20180311T070000
END:DAYLIGHT
BEGIN:STANDARD
TZOFFSETFROM:-0400
TZOFFSETTO:-0500
TZNAME:EST
DTSTART:20181104T060000
END:STANDARD
BEGIN:DAYLIGHT
TZOFFSETFROM:-0500
TZOFFSETTO:-0400
TZNAME:EDT
DTSTART:20190310T070000
END:DAYLIGHT
BEGIN:STANDARD
TZOFFSETFROM:-0400
TZOFFSETTO:-0500
TZNAME:EST
DTSTART:20191103T060000
END:STANDARD
BEGIN:DAYLIGHT
TZOFFSETFROM:-0500
TZOFFSETTO:-0400
TZNAME:EDT
DTSTART:20200308T070000
END:DAYLIGHT
BEGIN:STANDARD
TZOFFSETFROM:-0400
TZOFFSETTO:-0500
TZNAME:EST
DTSTART:20201101T060000
END:STANDARD
END:VTIMEZONE
BEGIN:VEVENT
DTSTART;TZID=America/New_York:20190225T100000
DTEND;TZID=America/New_York:20190225T110000
DTSTAMP:20260422T180148
CREATED:20190128T200945Z
LAST-MODIFIED:20221003T200313Z
UID:10002061-1551088800-1551092400@futurefaculty.cornell.edu
SUMMARY:Weekly Discussion about CIRTL Online Course
DESCRIPTION:This is a local discussion group meeting for the online course Advancing Learning through Evidence-Based STEM Teaching offered through EdX by the CIRTL Network and starting February 4\, 2019. We will meet in person to discuss the prior week’s online content. \nAdvancing Learning through Evidence-Based STEM Teaching prepares science\, technology\, engineering\, and mathematics (STEM) instructors to develop and implement teaching practices that advance the learning experiences and outcomes of both students and teachers. Participants will learn about effective teaching strategies and the research that supports them\, including active learning and flipped classroom approaches. \nThis eight-week course draws on the expertise of STEM faculty\, educational researchers\, and staff from university teaching centers\, many of them affiliated with the Center for the Integration of Research\, Teaching\, and Learning (CIRTL)\, a network of 40 research universities collaborating in the preparation of STEM graduate students and postdocs as future faculty members. There are opportunities for peer-to-peer learning\, both online and within Cornell\, as we also offer local discussion groups around the course content (contact Colleen McLinn at cirtl@cornell.edu for information). \nThis course will be offered via EdX from February 4\, 2019 – March 29\, 2019. Learn more at: https://futurefaculty.cornell.edu/courses/massive-open-online-courses/
URL:https://futurefaculty.cornell.edu/event/weekly-discussion-about-cirtl-online-course-3/
LOCATION:341 Caldwell Hall\, 121 Reservoir Avenue\, Ithaca\, NY\, 14853\, United States
CATEGORIES:Future Faculty and Academic Careers
ATTACH;FMTTYPE=image/png:https://futurefaculty.cornell.edu/wp-content/uploads/2019/01/MOOC-2-Images-Module-3-copy.png
ORGANIZER;CN="CIRTL at Cornell":MAILTO:cirtl@cornell.edu
GEO:42.4492103;-76.4782721
X-APPLE-STRUCTURED-LOCATION;VALUE=URI;X-ADDRESS=341 Caldwell Hall 121 Reservoir Avenue Ithaca NY 14853 United States;X-APPLE-RADIUS=500;X-TITLE=121 Reservoir Avenue:geo:-76.4782721,42.4492103
END:VEVENT
BEGIN:VEVENT
DTSTART;TZID=America/New_York:20190226T084500
DTEND;TZID=America/New_York:20190226T190000
DTSTAMP:20260422T180148
CREATED:20190118T182549Z
LAST-MODIFIED:20221003T200315Z
UID:10002052-1551170700-1551207600@futurefaculty.cornell.edu
SUMMARY:2019 Winter Pathways to Success Symposium
DESCRIPTION:Pathways to Success (P2S) is the Graduate School’s framework for helping graduate and professional students and postdoctoral scholars be successful in their research and scholarship\, and establish the necessary skills for their future careers. \nThe Winter and Summer P2S Symposia are one-day professional development and career exploration opportunities for graduate students and postdoctoral scholars. These events provide participants with information and tools useful for their time at Cornell and beyond. \nSponsored by the Graduate School\, English Language Support Office (ELSO)\, Career Services\, and Office of Postdoctoral Studies.
URL:https://futurefaculty.cornell.edu/event/2019-february-pathways-to-success-symposium/
LOCATION:Biotechnology Building\, 526 Campus Road\, Ithaca\, NY\, 14853\, United States
CATEGORIES:Future Faculty and Academic Careers
ATTACH;FMTTYPE=image/png:https://futurefaculty.cornell.edu/wp-content/uploads/2019/01/P2S_Title.png
GEO:42.4465542;-76.4783618
X-APPLE-STRUCTURED-LOCATION;VALUE=URI;X-ADDRESS=Biotechnology Building 526 Campus Road Ithaca NY 14853 United States;X-APPLE-RADIUS=500;X-TITLE=526 Campus Road:geo:-76.4783618,42.4465542
END:VEVENT
END:VCALENDAR