BEGIN:VCALENDAR
VERSION:2.0
PRODID:-//Future Faculty and Academic Careers - ECPv6.15.20//NONSGML v1.0//EN
CALSCALE:GREGORIAN
METHOD:PUBLISH
X-ORIGINAL-URL:https://futurefaculty.cornell.edu
X-WR-CALDESC:Events for Future Faculty and Academic Careers
REFRESH-INTERVAL;VALUE=DURATION:PT1H
X-Robots-Tag:noindex
X-PUBLISHED-TTL:PT1H
BEGIN:VTIMEZONE
TZID:America/New_York
BEGIN:DAYLIGHT
TZOFFSETFROM:-0500
TZOFFSETTO:-0400
TZNAME:EDT
DTSTART:20180311T070000
END:DAYLIGHT
BEGIN:STANDARD
TZOFFSETFROM:-0400
TZOFFSETTO:-0500
TZNAME:EST
DTSTART:20181104T060000
END:STANDARD
BEGIN:DAYLIGHT
TZOFFSETFROM:-0500
TZOFFSETTO:-0400
TZNAME:EDT
DTSTART:20190310T070000
END:DAYLIGHT
BEGIN:STANDARD
TZOFFSETFROM:-0400
TZOFFSETTO:-0500
TZNAME:EST
DTSTART:20191103T060000
END:STANDARD
BEGIN:DAYLIGHT
TZOFFSETFROM:-0500
TZOFFSETTO:-0400
TZNAME:EDT
DTSTART:20200308T070000
END:DAYLIGHT
BEGIN:STANDARD
TZOFFSETFROM:-0400
TZOFFSETTO:-0500
TZNAME:EST
DTSTART:20201101T060000
END:STANDARD
END:VTIMEZONE
BEGIN:VEVENT
DTSTART;TZID=America/New_York:20190717T120000
DTEND;TZID=America/New_York:20190717T133000
DTSTAMP:20260422T180357
CREATED:20190502T220940Z
LAST-MODIFIED:20221003T200312Z
UID:10002092-1563364800-1563370200@futurefaculty.cornell.edu
SUMMARY:How to Approach the Research Plan in a Job Application
DESCRIPTION:This session – featuring Dr. Marvin Pritts – will help academic job seekers interested in research-intensive universities to develop a focused and compelling research plan that they can describe in interviews and application materials such as the research statement. This is a brown bag event – bring your lunch\, and we’ll provide drinks and dessert. Meets in B75 Warren Hall. \nCo-sponsored by the Center for the Integration of Research\, Teaching\, and Learning (CIRTL at Cornell) and the Office of Postdoctoral Studies\, as part of the Academic Job Search Series.
URL:https://futurefaculty.cornell.edu/event/how-to-approach-the-research-plan-in-a-job-application/
LOCATION:Warren Hall\, 137 Reservoir Ave\, Ithaca\, NY\, 14850\, United States
CATEGORIES:Future Faculty and Academic Careers
ORGANIZER;CN="CIRTL at Cornell":MAILTO:cirtl@cornell.edu
GEO:42.4491983;-76.4771093
X-APPLE-STRUCTURED-LOCATION;VALUE=URI;X-ADDRESS=Warren Hall 137 Reservoir Ave Ithaca NY 14850 United States;X-APPLE-RADIUS=500;X-TITLE=137 Reservoir Ave:geo:-76.4771093,42.4491983
END:VEVENT
END:VCALENDAR