BEGIN:VCALENDAR
VERSION:2.0
PRODID:-//Future Faculty and Academic Careers - ECPv6.15.20//NONSGML v1.0//EN
CALSCALE:GREGORIAN
METHOD:PUBLISH
X-WR-CALNAME:Future Faculty and Academic Careers
X-ORIGINAL-URL:https://futurefaculty.cornell.edu
X-WR-CALDESC:Events for Future Faculty and Academic Careers
REFRESH-INTERVAL;VALUE=DURATION:PT1H
X-Robots-Tag:noindex
X-PUBLISHED-TTL:PT1H
BEGIN:VTIMEZONE
TZID:America/New_York
BEGIN:DAYLIGHT
TZOFFSETFROM:-0500
TZOFFSETTO:-0400
TZNAME:EDT
DTSTART:20180311T070000
END:DAYLIGHT
BEGIN:STANDARD
TZOFFSETFROM:-0400
TZOFFSETTO:-0500
TZNAME:EST
DTSTART:20181104T060000
END:STANDARD
BEGIN:DAYLIGHT
TZOFFSETFROM:-0500
TZOFFSETTO:-0400
TZNAME:EDT
DTSTART:20190310T070000
END:DAYLIGHT
BEGIN:STANDARD
TZOFFSETFROM:-0400
TZOFFSETTO:-0500
TZNAME:EST
DTSTART:20191103T060000
END:STANDARD
BEGIN:DAYLIGHT
TZOFFSETFROM:-0500
TZOFFSETTO:-0400
TZNAME:EDT
DTSTART:20200308T070000
END:DAYLIGHT
BEGIN:STANDARD
TZOFFSETFROM:-0400
TZOFFSETTO:-0500
TZNAME:EST
DTSTART:20201101T060000
END:STANDARD
END:VTIMEZONE
BEGIN:VEVENT
DTSTART;TZID=America/New_York:20191119T113000
DTEND;TZID=America/New_York:20191119T133000
DTSTAMP:20260422T064405
CREATED:20190928T174251Z
LAST-MODIFIED:20221003T200310Z
UID:10002107-1574163000-1574170200@futurefaculty.cornell.edu
SUMMARY:My Voice\, My Story: Understanding the Untold Lived Experiences of Graduate and Professional Students - Workshop for Faculty and Staff
DESCRIPTION:Workshop for Faculty & Staff\nAbout My Voice\, My Story\nNote: This workshop is at capacity. Contact cirtl@cornell.edu for more information on future sessions. \nMy Voice\, My Story sessions pair video monologues constructed from real experiences of graduate students with facilitated discussions. The primary objectives of My Voice\, My Story are to utilize the power of narratives to achieve greater understanding of the stories on the lived of experiences of graduate and professional students that frequently go untold\, and to develop and share strategies on how to create more inclusive and supportive research and learning environments. \nListening to the stories of the characters portrayed in the My Voice\, My Story monologues provides participants with opportunities for learning through: \n\nListening for understanding\, especially when we think we are different from one another\nDeveloping awareness and understanding of experiences of exclusion and inclusion in the learning and research environment\nEstablishing respect for our mutual similarities and differences\nExperiencing empathy for and identification with all of the characters portrayed in the video monologues\nSeeing the commonality of our human experience that flows underneath all the stories\nRecognizing instances of unconscious bias\nContributing to the development of strategies on how one can contribute to improving the organizational climate for all its members\n\nLunch provided.
URL:https://futurefaculty.cornell.edu/event/my-voice-my-story-understanding-the-untold-lived-experiences-of-graduate-professional-students-workshop-for-faculty-staff/
LOCATION:401 Warren Hall\, 137 Reservoir Ave\, Ithaca\, NY\, 14853\, United States
CATEGORIES:Future Faculty and Academic Careers
ATTACH;FMTTYPE=image/png:https://futurefaculty.cornell.edu/wp-content/uploads/2018/12/MVMS-with-text-e1544043691771.png
GEO:42.4491983;-76.4771093
X-APPLE-STRUCTURED-LOCATION;VALUE=URI;X-ADDRESS=401 Warren Hall 137 Reservoir Ave Ithaca NY 14853 United States;X-APPLE-RADIUS=500;X-TITLE=137 Reservoir Ave:geo:-76.4771093,42.4491983
END:VEVENT
BEGIN:VEVENT
DTSTART;TZID=America/New_York:20191120T160000
DTEND;TZID=America/New_York:20191120T173000
DTSTAMP:20260422T064405
CREATED:20190822T144231Z
LAST-MODIFIED:20221003T200311Z
UID:10001770-1574265600-1574271000@futurefaculty.cornell.edu
SUMMARY:NextGen Professors: November Cohort Meeting
DESCRIPTION:This is an invitation-only event for applicants who have been select to participate in this year’s NextGen Professors cohort. \nNextGen Professors is a career-development program focused on preparing Cornell doctoral students and postdocs for faculty careers across institutional types. The primary audience for this program is doctoral students (in year 3 or beyond) and postdocs from backgrounds historically underrepresented in the professoriate\, and/or those with a demonstrated commitment to advancing diversity\, inclusion\, access and equity in the academy. Participants are members of a cohort who together engage in series of professional and career development activities including monthly NextGen Professors cohort meetings\, Power Mentoring Sessions with faculty\, and the Future Professors Institute. Participants also engage in the future faculty development program offerings of CIRTL at Cornell. \nNovember Meeting Topic: Creating & Leveraging Colleague Network Groups – Lessons from Faculty \nLocation: 102 Mann Library
URL:https://futurefaculty.cornell.edu/event/nextgen-professors-november-cohort-meeting-2/
LOCATION:102 Mann Library\, 237 Mann Drive\, Ithaca\, NY\, 14853\, United States
CATEGORIES:Future Faculty and Academic Careers
ATTACH;FMTTYPE=image/jpeg:https://futurefaculty.cornell.edu/wp-content/uploads/2019/01/IMG_1051_select.jpeg
GEO:42.4487952;-76.476316
X-APPLE-STRUCTURED-LOCATION;VALUE=URI;X-ADDRESS=102 Mann Library 237 Mann Drive Ithaca NY 14853 United States;X-APPLE-RADIUS=500;X-TITLE=237 Mann Drive:geo:-76.476316,42.4487952
END:VEVENT
END:VCALENDAR