BEGIN:VCALENDAR
VERSION:2.0
PRODID:-//Future Faculty and Academic Careers - ECPv6.15.20//NONSGML v1.0//EN
CALSCALE:GREGORIAN
METHOD:PUBLISH
X-WR-CALNAME:Future Faculty and Academic Careers
X-ORIGINAL-URL:https://futurefaculty.cornell.edu
X-WR-CALDESC:Events for Future Faculty and Academic Careers
REFRESH-INTERVAL;VALUE=DURATION:PT1H
X-Robots-Tag:noindex
X-PUBLISHED-TTL:PT1H
BEGIN:VTIMEZONE
TZID:America/New_York
BEGIN:DAYLIGHT
TZOFFSETFROM:-0500
TZOFFSETTO:-0400
TZNAME:EDT
DTSTART:20190310T070000
END:DAYLIGHT
BEGIN:STANDARD
TZOFFSETFROM:-0400
TZOFFSETTO:-0500
TZNAME:EST
DTSTART:20191103T060000
END:STANDARD
BEGIN:DAYLIGHT
TZOFFSETFROM:-0500
TZOFFSETTO:-0400
TZNAME:EDT
DTSTART:20200308T070000
END:DAYLIGHT
BEGIN:STANDARD
TZOFFSETFROM:-0400
TZOFFSETTO:-0500
TZNAME:EST
DTSTART:20201101T060000
END:STANDARD
BEGIN:DAYLIGHT
TZOFFSETFROM:-0500
TZOFFSETTO:-0400
TZNAME:EDT
DTSTART:20210314T070000
END:DAYLIGHT
BEGIN:STANDARD
TZOFFSETFROM:-0400
TZOFFSETTO:-0500
TZNAME:EST
DTSTART:20211107T060000
END:STANDARD
END:VTIMEZONE
BEGIN:VEVENT
DTSTART;TZID=America/New_York:20200317T153000
DTEND;TZID=America/New_York:20200317T180000
DTSTAMP:20260422T002654
CREATED:20200107T014525Z
LAST-MODIFIED:20221003T201503Z
UID:10002136-1584459000-1584468000@futurefaculty.cornell.edu
SUMMARY:Intergroup Dialogue Project – Grad/ Postdoc Short Course
DESCRIPTION:This is an invitation-only event open to those who applied by the November deadline and were accepted for Winter 2020. Please contact the IDP team at idp@cornell.edu with any questions. \nThrough an interactive process known as intergroup dialogue\, this offering\, hosted by the Intergroup Dialogue Project\, provides participants with opportunities to explore how their social identities shape their professional choices and teaching/learning styles\, how to build capacity to have meaningful dialogue and effective collaborations across social\, cultural and power differences\, and how to explore the power of alliances when seeking to create an inclusive environment. \nThis program offering for Graduate Students and Postdoctoral Scholars has been made possible through funding support from the Graduate School Office of Inclusion and Student Engagement\, CIRTL at Cornell\, the Graduate School’s ETS/CGS Award for Innovation in Promoting Success in Graduate Education\, and the National Science Foundation-funded Cornell CIRTL AGEP Project under Grant No. 1647094. \nThis program could be for you if you want to: \n\nConnect more effectively with students\, faculty\, and colleagues.\nPrepare yourself to engage in diversity & inclusion processes in your future career as a scholar/professional.\nExplore your own social identities and learn how they relate to larger structures.\nFeel confident addressing power dynamics in your field.\nLearn how to respond to uncomfortable comments and situations.\nEngage in meaningful conversations about and across differences.\nCommunicate productively through conflict.\nCollaboratively think about ways you can enact positive social change.\nGet to know a diverse group of scholars who are interested in similar topics!
URL:https://futurefaculty.cornell.edu/event/intergroup-dialogue-project-grad-postdoc-short-course-7/
CATEGORIES:Future Faculty and Academic Careers
ATTACH;FMTTYPE=image/jpeg:https://futurefaculty.cornell.edu/wp-content/uploads/2020/01/IMG_1035-crop-scaled-e1578412901645.jpg
END:VEVENT
BEGIN:VEVENT
DTSTART;TZID=America/New_York:20200319T130000
DTEND;TZID=America/New_York:20200319T143000
DTSTAMP:20260422T002654
CREATED:20200124T200103Z
LAST-MODIFIED:20221003T200309Z
UID:10001794-1584622800-1584628200@futurefaculty.cornell.edu
SUMMARY:CIRTL Network Webinar: Equity\, Diversity\, and Inclusive Teaching in the Community College Setting
DESCRIPTION:Community colleges are truly diverse settings\, attracting individuals from all different walks of life with a common interest in advancing their education. If you are interested in exploring a career at a community college\, then understanding the diversity of their student populations is crucial. This panel consisting of faculty and administrators from various community colleges will share insights on student diversity. We will also explore the types of inclusive teaching strategies that best support community college students and help to create more equitable classrooms. \nEvent Schedule\nThis online event takes place on Thursday\, March 19 at 1-2:30PM ET / 12-1:30PM CT / 11AM-12:30PM MT / 10-11:30AM PT. This event is part of the three-part CIRTLCast series “Exploring Careers in Teaching at a Community College\,” organized through CIRTL and APLU’s NSF INCLUDES Aspire grant. \nRegistration\nThis drop-in\, online event is open to the public. Anyone is welcome to attend\, but you must register in order to attend. Once you register\, you will have access to the Blackboard Ultra room where this online event will take place. \nAccessibility\nWe strive to be inclusive of anyone interested in participating in our activities. If you have specific accessibility needs\, please contact us at info@cirtl.net in advance so that we may make the necessary accommodations. \nMore information at https://www.cirtl.net/events/789
URL:https://futurefaculty.cornell.edu/event/equity-diversity-and-inclusive-teaching-in-the-community-college-setting/
LOCATION:Online
CATEGORIES:Future Faculty and Academic Careers
ATTACH;FMTTYPE=image/jpeg:https://futurefaculty.cornell.edu/wp-content/uploads/2018/07/UP_2018_0200_022-copy-e1532724122136.jpg
ORGANIZER;CN="CIRTL Network":MAILTO:info@cirtl.net
END:VEVENT
BEGIN:VEVENT
DTSTART;TZID=America/New_York:20200319T160000
DTEND;TZID=America/New_York:20200319T173000
DTSTAMP:20260422T002654
CREATED:20191220T000944Z
LAST-MODIFIED:20221003T200310Z
UID:10002123-1584633600-1584639000@futurefaculty.cornell.edu
SUMMARY:NextGen Professors: March Cohort Meeting (Online)
DESCRIPTION:This is an invitation-only event for applicants who have been selected to participate in this year’s NextGen Professors cohort\, and will be held online. A Zoom link will be shared by email to participants. \nNextGen Professors is a career-development program focused on preparing Cornell doctoral students and postdocs for faculty careers across institutional types. The primary audience for this program is doctoral students (in year 3 or beyond) and postdocs from backgrounds historically underrepresented in the professoriate\, and/or those with a demonstrated commitment to advancing diversity\, inclusion\, access and equity in the academy. Participants are members of a cohort who together engage in a series of professional and career development activities including monthly NextGen Professors cohort meetings\, Power Mentoring Sessions with faculty\, and the Future Professors Institute. Participants also engage in the future faculty development program offerings of CIRTL at Cornell. \nMarch Meeting Topic: Power Mentoring Session with Current Faculty: Avoiding Self-Sabotaging Behaviors and Introduction to PACE \nLocation: Zoom web conference \nCornell’s coronavirus/COVID-19 webpage includes up to date information about campus policies and procedures. Thank you for your compliance and flexibility in this time of increased attention to health concerns locally and globally.
URL:https://futurefaculty.cornell.edu/event/nextgen-professors-march-cohort-meeting-2/
LOCATION:Online
CATEGORIES:Future Faculty and Academic Careers
ATTACH;FMTTYPE=image/jpeg:https://futurefaculty.cornell.edu/wp-content/uploads/2019/01/IMG_1051_select.jpeg
END:VEVENT
BEGIN:VEVENT
DTSTART;TZID=America/New_York:20200320T133000
DTEND;TZID=America/New_York:20200320T183000
DTSTAMP:20260422T002654
CREATED:20191221T001749Z
LAST-MODIFIED:20221003T200309Z
UID:10002125-1584711000-1584729000@futurefaculty.cornell.edu
SUMMARY:CANCELED: Inclusive Teaching Institute for Graduate Students and Postdocs
DESCRIPTION:(This is an invitation-only event for participants who have applied and been accepted to the program.) The Inclusive Teaching Institute for Graduate Students and Postdocs is a two-day retreat for graduate students and postdoctoral scholars to explore diversity and inclusion in teaching and learning. As a participant\, you will identify strategies to increase inclusion and accessibility\, boost student engagement\, foster belongingness\, and design an action plan for future teaching. \nMeets: Friday\, March 20\, 1:30-6:30 pm and Saturday\, March 21\, 9:30 am – 3:00 pm \nApply to participate by March 6\, 2020. Must be available for both dates. \nCo-sponsored by the Center for Teaching Innovation and CIRTL at Cornell \nAs of March 10\, 2020\, this event has been canceled for 2020 as part of efforts to prevent the spread of novel coronavirus (COVID-19) by limiting in-person gathering. Cornell’s coronavirus/COVID-19 web page includes up to date information about campus policies in this regard.  Thank you for your compliance and flexibility in this time of increased attention to health concerns locally and globally. \nInformation on alternative online learning about this topic taking place later this spring has been sent to applicants. Please contact Melina Ivanchikova (md734) or Colleen McLinn (cmm252) with any questions.
URL:https://futurefaculty.cornell.edu/event/inclusive-teaching-institute-for-graduate-students-and-postdocs/
LOCATION:ILR Conference Center\, King-Shaw Hall\, Ithaca\, NY\, 14853\, United States
CATEGORIES:Future Faculty and Academic Careers
ATTACH;FMTTYPE=image/jpeg:https://futurefaculty.cornell.edu/wp-content/uploads/2019/01/2018-04-23_026-e1548029679201.jpeg
ORGANIZER;CN="Center for Teaching Innovation":MAILTO:cornellcti@cornell.edu
GEO:42.4469974;-76.480085
X-APPLE-STRUCTURED-LOCATION;VALUE=URI;X-ADDRESS=ILR Conference Center King-Shaw Hall Ithaca NY 14853 United States;X-APPLE-RADIUS=500;X-TITLE=King-Shaw Hall:geo:-76.480085,42.4469974
END:VEVENT
BEGIN:VEVENT
DTSTART;TZID=America/New_York:20200321T093000
DTEND;TZID=America/New_York:20200321T150000
DTSTAMP:20260422T002654
CREATED:20191222T002418Z
LAST-MODIFIED:20221003T200309Z
UID:10002127-1584783000-1584802800@futurefaculty.cornell.edu
SUMMARY:CANCELED: Inclusive Teaching Institute for Graduate Students and Postdocs
DESCRIPTION:(This is an invitation-only event for participants who have applied and been accepted to the program.) The Inclusive Teaching Institute for Graduate Students and Postdocs is a two-day retreat for graduate students and postdoctoral scholars to explore diversity and inclusion in teaching and learning. As a participant\, you will identify strategies to increase inclusion and accessibility\, boost student engagement\, foster belongingness\, and design an action plan for future teaching. \nMeets: Friday\, March 20\, 1:30-6:30 pm and Saturday\, March 21\, 9:30 am – 3:00 pm \nApply to participate by March 6\, 2020. Must be available for both dates. \nCo-sponsored by the Center for Teaching Innovation and CIRTL at Cornell \nAs of March 10\, 2020\, this event has been canceled for 2020 as part of efforts to prevent the spread of novel coronavirus (COVID-19) by limiting in-person gathering. Cornell’s coronavirus/COVID-19 web page includes up to date information about campus policies in this regard.  Thank you for your compliance and flexibility in this time of increased attention to health concerns locally and globally. \nInformation on alternative online learning about this topic taking place later this spring has been sent to applicants. Please contact Melina Ivanchikova (md734) or Colleen McLinn (cmm252) with any questions.
URL:https://futurefaculty.cornell.edu/event/inclusive-teaching-institute-for-graduate-students-and-postdocs-2/
LOCATION:ILR Conference Center\, King-Shaw Hall\, Ithaca\, NY\, 14853\, United States
CATEGORIES:Future Faculty and Academic Careers
ATTACH;FMTTYPE=image/jpeg:https://futurefaculty.cornell.edu/wp-content/uploads/2019/01/2018-04-23_026-e1548029679201.jpeg
ORGANIZER;CN="Center for Teaching Innovation":MAILTO:cornellcti@cornell.edu
GEO:42.4469974;-76.480085
X-APPLE-STRUCTURED-LOCATION;VALUE=URI;X-ADDRESS=ILR Conference Center King-Shaw Hall Ithaca NY 14853 United States;X-APPLE-RADIUS=500;X-TITLE=King-Shaw Hall:geo:-76.480085,42.4469974
END:VEVENT
END:VCALENDAR