BEGIN:VCALENDAR
VERSION:2.0
PRODID:-//Future Faculty and Academic Careers - ECPv6.15.17.1//NONSGML v1.0//EN
CALSCALE:GREGORIAN
METHOD:PUBLISH
X-WR-CALNAME:Future Faculty and Academic Careers
X-ORIGINAL-URL:https://futurefaculty.cornell.edu
X-WR-CALDESC:Events for Future Faculty and Academic Careers
REFRESH-INTERVAL;VALUE=DURATION:PT1H
X-Robots-Tag:noindex
X-PUBLISHED-TTL:PT1H
BEGIN:VTIMEZONE
TZID:America/New_York
BEGIN:DAYLIGHT
TZOFFSETFROM:-0500
TZOFFSETTO:-0400
TZNAME:EDT
DTSTART:20190310T070000
END:DAYLIGHT
BEGIN:STANDARD
TZOFFSETFROM:-0400
TZOFFSETTO:-0500
TZNAME:EST
DTSTART:20191103T060000
END:STANDARD
BEGIN:DAYLIGHT
TZOFFSETFROM:-0500
TZOFFSETTO:-0400
TZNAME:EDT
DTSTART:20200308T070000
END:DAYLIGHT
BEGIN:STANDARD
TZOFFSETFROM:-0400
TZOFFSETTO:-0500
TZNAME:EST
DTSTART:20201101T060000
END:STANDARD
BEGIN:DAYLIGHT
TZOFFSETFROM:-0500
TZOFFSETTO:-0400
TZNAME:EDT
DTSTART:20210314T070000
END:DAYLIGHT
BEGIN:STANDARD
TZOFFSETFROM:-0400
TZOFFSETTO:-0500
TZNAME:EST
DTSTART:20211107T060000
END:STANDARD
END:VTIMEZONE
BEGIN:VEVENT
DTSTART;TZID=America/New_York:20201208T140000
DTEND;TZID=America/New_York:20201208T160000
DTSTAMP:20260421T093530
CREATED:20200916T192406Z
LAST-MODIFIED:20221003T200255Z
UID:10002209-1607436000-1607443200@futurefaculty.cornell.edu
SUMMARY:NIH: Becoming a Resilient Scientist Series – Self-Advocacy and Assertiveness
DESCRIPTION:Speaker(s): Sharon Milgram\, PhD\, Director\, OITE\nThis event is recommended for: Summer Interns; Postbacs; Graduate Students; Postdocs/Fellows; NIH Staff Scientist/Staff Clinician. \nRegister here: https://attendee.gotowebinar.com/register/1716077475889396750 \nWe all need to develop the skills needed to be assertive and to advocate for ourselves\, especially in hierarchical environments where we sometimes feel we do not have a voice. In this webinar\, we will discuss how to set boundaries\, communicate expectations\, ask for feedback and discuss difficult issues with friends\, mentors\, colleagues and supervisors. \n  \n********************************************** \nBECOMING A RESILIENT SCIENTIST SERIES\nNavigating school\, the career exploration process\, research environments\, and the stress of national/international news can seem overwhelming and lead us to doubt ourselves just when we need confidence the most. Through workshops and group discussions in this series (discussion groups will be held in the week following the lecture\, more info will be provided via email)\, we will work to identify attitudes and behaviors that can help us be more resilient as we navigate difficult situations in school\, work and life. Each workshop will highlight emotional intelligence competencies needed for success in research and healthcare careers and will provide strategies for developing these competencies as part of your educational journey. While you may participate in any of the webinars\, it is best to participate in the entire series as the material relates and concepts will be developed throughout the series. The workshops and group discussions in the series are: \nSession 1 – Sept: I. An Introduction to Resilience and Wellness  \nSession 2 – Oct: II. Exploring our Self-Talk: Cognitive Distortions and Imposter Fears \nSession 3 – Nov: III. Emotions and Emotional Intelligence in the Workplace \nSession 4 – Dec: IV. Self-Advocacy and Assertiveness for Scientists \nSession 5 – Jan: V. Developing Feedback Resilience \nSession 6 – Feb: VI. Managing Up to Maximize Mentoring Relationships
URL:https://futurefaculty.cornell.edu/event/nih-becoming-a-resilient-scientist-series-self-advocacy-and-assertiveness/
LOCATION:GoToWebinar
CATEGORIES:Future Faculty and Academic Careers
END:VEVENT
BEGIN:VEVENT
DTSTART;TZID=America/New_York:20201209T100000
DTEND;TZID=America/New_York:20201209T110000
DTSTAMP:20260421T093530
CREATED:20201124T205722Z
LAST-MODIFIED:20221010T224558Z
UID:10001851-1607508000-1607511600@futurefaculty.cornell.edu
SUMMARY:International Student / Postdoc Job Search Discussion
DESCRIPTION:The International Students/Postdocs Job Search Virtual Chat is designed to get international students/postdocs who are seeking for jobs together to talk about questions and concerns that all share\, and strategize about how to move forward. During this session\, we will first have a brief introduction of all the career and immigration staff present\, and then open it up for all participants to ask questions and have a facilitated discussion. \n\n \nOur experts in careers and/or immigration include:  \n\nDenise DiRienzo\, Experiential Program Director for Careers Beyond Academia\nChristine Holmes\, Director of Postdoctoral Studies\nColleen McLinn\, Executive Director for Future Faculty and Academic Careers\nElizabeth Shedd\, Senior Immigration Advisor\, Office of Global Learning\nSusi Varvayanis\, Executive Director of Careers Beyond Academia\nCaleb Yu\, Graduate and International Student Career Advisor\n\nAccommodations: We strive to make our events accessible to all community members. Individuals who would like to request accessibility accommodations should contact ry274@cornell.edu. We ask that requests be made at least four days in advance to help ensure they can be met.\n \nMeets by Zoom (link to be sent when registered)
URL:https://futurefaculty.cornell.edu/event/international-student-postdoc-job-search-discussion-5/
LOCATION:Zoom
CATEGORIES:Careers Beyond Academia,Future Faculty and Academic Careers
ATTACH;FMTTYPE=image/jpeg:https://futurefaculty.cornell.edu/wp-content/uploads/2020/05/0410_globe_TND-87jKzD.tmp_.jpg
END:VEVENT
BEGIN:VEVENT
DTSTART;TZID=America/New_York:20201211T130000
DTEND;TZID=America/New_York:20201211T153000
DTSTAMP:20260421T093530
CREATED:20200916T193316Z
LAST-MODIFIED:20221003T200255Z
UID:10002211-1607691600-1607700600@futurefaculty.cornell.edu
SUMMARY:NIH: Workplace Dynamics – Diversity in a Multicultural Society
DESCRIPTION:Speaker(s): Sharon Milgram\, PhD\, Director\, OITE\nThis event is recommended for: Postbacs; Graduate Students; Postdocs/Fellows. \nDiversity…. difference…. post-racial….. multicultural –  all buzzwords we regularly hear.  But how often do we as future scientists\, healthcare providers\, science educators\, and policy experts stop to consider our own reactions to diversity and difference?  Furthermore\, why does this matter to our research and how do we build inclusive and welcoming work environments? This workshop will examine the meaning of diversity in the lives of individuals\, groups\, and communities\, as well as the larger society and scientific community.
URL:https://futurefaculty.cornell.edu/event/nih-workplace-dynamics-diversity-in-a-multicultural-society/
LOCATION:GoToWebinar
CATEGORIES:Future Faculty and Academic Careers
END:VEVENT
END:VCALENDAR