BEGIN:VCALENDAR
VERSION:2.0
PRODID:-//Future Faculty and Academic Careers - ECPv6.15.17.1//NONSGML v1.0//EN
CALSCALE:GREGORIAN
METHOD:PUBLISH
X-ORIGINAL-URL:https://futurefaculty.cornell.edu
X-WR-CALDESC:Events for Future Faculty and Academic Careers
REFRESH-INTERVAL;VALUE=DURATION:PT1H
X-Robots-Tag:noindex
X-PUBLISHED-TTL:PT1H
BEGIN:VTIMEZONE
TZID:America/New_York
BEGIN:DAYLIGHT
TZOFFSETFROM:-0500
TZOFFSETTO:-0400
TZNAME:EDT
DTSTART:20190310T070000
END:DAYLIGHT
BEGIN:STANDARD
TZOFFSETFROM:-0400
TZOFFSETTO:-0500
TZNAME:EST
DTSTART:20191103T060000
END:STANDARD
BEGIN:DAYLIGHT
TZOFFSETFROM:-0500
TZOFFSETTO:-0400
TZNAME:EDT
DTSTART:20200308T070000
END:DAYLIGHT
BEGIN:STANDARD
TZOFFSETFROM:-0400
TZOFFSETTO:-0500
TZNAME:EST
DTSTART:20201101T060000
END:STANDARD
BEGIN:DAYLIGHT
TZOFFSETFROM:-0500
TZOFFSETTO:-0400
TZNAME:EDT
DTSTART:20210314T070000
END:DAYLIGHT
BEGIN:STANDARD
TZOFFSETFROM:-0400
TZOFFSETTO:-0500
TZNAME:EST
DTSTART:20211107T060000
END:STANDARD
END:VTIMEZONE
BEGIN:VEVENT
DTSTART;TZID=America/New_York:20201214T150000
DTEND;TZID=America/New_York:20201214T170000
DTSTAMP:20260421T140728
CREATED:20200916T193316Z
LAST-MODIFIED:20221003T200255Z
UID:10002213-1607958000-1607965200@futurefaculty.cornell.edu
SUMMARY:NIH: Interviewing Skills
DESCRIPTION:Speaker(s): Lori Conlan\, PhD\, Director\, Office of Postdoctoral Services\nThis event is recommended for: Graduate Students; Postdocs/Fellows. \nJoin us to see how to navigate an interview for industry\, non-profits\, government\, and administrative roles (any non-faculty position). We will explore common questions\, typical schedules\, and how to prepare yourself to make a positive impression. \nThe session will be on the gotowebinar platform: https://attendee.gotowebinar.com/register/6367811006220495118 \nA recording of this presentation will be posted on the OITE YouTube page  about one week after the event: https://www.youtube.com/c/NIHOITE
URL:https://futurefaculty.cornell.edu/event/nih-interviewing-skills/
LOCATION:GoToWebinar
CATEGORIES:Future Faculty and Academic Careers
END:VEVENT
END:VCALENDAR