BEGIN:VCALENDAR
VERSION:2.0
PRODID:-//Future Faculty and Academic Careers - ECPv6.15.17.1//NONSGML v1.0//EN
CALSCALE:GREGORIAN
METHOD:PUBLISH
X-WR-CALNAME:Future Faculty and Academic Careers
X-ORIGINAL-URL:https://futurefaculty.cornell.edu
X-WR-CALDESC:Events for Future Faculty and Academic Careers
REFRESH-INTERVAL;VALUE=DURATION:PT1H
X-Robots-Tag:noindex
X-PUBLISHED-TTL:PT1H
BEGIN:VTIMEZONE
TZID:America/New_York
BEGIN:DAYLIGHT
TZOFFSETFROM:-0500
TZOFFSETTO:-0400
TZNAME:EDT
DTSTART:20200308T070000
END:DAYLIGHT
BEGIN:STANDARD
TZOFFSETFROM:-0400
TZOFFSETTO:-0500
TZNAME:EST
DTSTART:20201101T060000
END:STANDARD
BEGIN:DAYLIGHT
TZOFFSETFROM:-0500
TZOFFSETTO:-0400
TZNAME:EDT
DTSTART:20210314T070000
END:DAYLIGHT
BEGIN:STANDARD
TZOFFSETFROM:-0400
TZOFFSETTO:-0500
TZNAME:EST
DTSTART:20211107T060000
END:STANDARD
BEGIN:DAYLIGHT
TZOFFSETFROM:-0500
TZOFFSETTO:-0400
TZNAME:EDT
DTSTART:20220313T070000
END:DAYLIGHT
BEGIN:STANDARD
TZOFFSETFROM:-0400
TZOFFSETTO:-0500
TZNAME:EST
DTSTART:20221106T060000
END:STANDARD
END:VTIMEZONE
BEGIN:VEVENT
DTSTART;TZID=America/New_York:20210217T113000
DTEND;TZID=America/New_York:20210217T130000
DTSTAMP:20260421T080837
CREATED:20210126T203325Z
LAST-MODIFIED:20221003T200243Z
UID:10002235-1613561400-1613566800@futurefaculty.cornell.edu
SUMMARY:“Equity in Science” Book Talk with Author & Prof. Julie Posselt
DESCRIPTION:The Graduate School Offices of Inclusion & Student Engagement and Future Faculty and Academic Careers invite you to join us on Wednesday\, February 17 for a discussion with Julie R. Posselt\, Associate Professor of Higher Education at the University of Southern California\, on her recent book\, Equity in Science: Representation\, Culture and the Dynamics of Change in Graduate Education. \nAbout “Equity in Science: Representation\, Culture\, and the Dynamics of Change in Graduate Education”\n“STEM disciplines are believed to be founded on the idea of meritocracy; recognition earned by the value of the data\, which is objective. Such disciplinary cultures resist concerns about implicit or structural biases\, and yet\, year after year\, scientists observe persistent gender and racial inequalities in their labs\, departments\, and programs. In Equity in Science\, Julie Posselt makes the case that understanding how field-specific cultures develop is a crucial step for bringing about real change. She does this by examining existing equity\, diversity\, and inclusion efforts across astronomy\, physics\, chemistry\, geology\, and psychology. These ethnographic case studies reveal the subtle ways that exclusion and power operate in scientific organizations and\, sometimes\, within change efforts themselves. Posselt argues that accelerating the movement for inclusion in science requires more effective collaboration across boundaries that typically separate people and scholars—across the social and natural sciences\, across the faculty-student-administrator roles\, and across race\, gender\, and other social identities. Ultimately this book is a call for academia to place equal value on expertise\, and on those who do the work of cultural translation. Posselt closes with targeted recommendations for individuals\, departments\, and disciplinary societies for creating systemic\, sustainable change.” \nUnlimited copies of the e-book of “Equity in Science” is now available through the Cornell Library system at http://proxy.library.cornell.edu/login?url=http://ebookcentral.proquest.com/lib/cornell/detail.action?docID=6221309.  A special thank you goes out to Graduate Field Assistant and CALS Diversity & Inclusion Committee member\, Casey Moore who took the initiative to explore opportunities to make this e-book accessible for free for our broader community! \nAbout the Author\nJulie Posselt is an associate professor of higher education in the University of Southern California Rossier School of Education and author of Equity in Science: Representation\, Culture and the Dynamics of Change in Graduate Education and Inside Graduate Admissions: Merit\, Diversity\, and Faculty Gatekeeping. Rooted in sociological and organizational theory\, Posselt’s research program examines institutionalized inequalities in higher education and organizational efforts aimed at reducing inequities and encouraging diversity. She focuses on selective sectors of higher education— graduate education\, STEM fields\, and elite undergraduate institutions—where longstanding practices and cultural norms are being negotiated to better identify talent and educate students in a changing society. Posselt’s current scholarship\, funded by five grants from the National Science Foundation and one from the Mellon Foundation\, examines movements for equity and inclusion in graduate education and the humanistic and physical science disciplines. Explore the resources available from Posselt’s projects on the Equity in Graduate Education website: bit.ly/GradEdEquity. \nSponsorship\nThis event is supported by the National Science Foundation under Grant No.1647094 (AGEP CIRTL). Any opinions\, findings\, and conclusions or recommendations expressed in this material are those of the authors and do not necessarily reflect the views of the National Science Foundation.
URL:https://futurefaculty.cornell.edu/event/equity-in-science-book-talk-with-author-prof-julie-posselt/
LOCATION:Zoom
CATEGORIES:Future Faculty and Academic Careers
ATTACH;FMTTYPE=image/jpeg:https://futurefaculty.cornell.edu/wp-content/uploads/2021/01/pid_31068-cQN6kd.tmp_.jpg
END:VEVENT
BEGIN:VEVENT
DTSTART;TZID=America/New_York:20210217T133000
DTEND;TZID=America/New_York:20210217T150000
DTSTAMP:20260421T080837
CREATED:20210128T193350Z
LAST-MODIFIED:20221003T200243Z
UID:10002236-1613568600-1613574000@futurefaculty.cornell.edu
SUMMARY:Safer Science: Strategies to Protect At-Risk Researchers When Conducting Fieldwork
DESCRIPTION:Join the conversation: #SaferScience \nAs a result of identity prejudice\, certain individuals are more vulnerable to conflict and violence when they are performing scientific work in the field. To help create change and best practices\, everyone within the scientific community will benefit from learning more about the risks some colleagues face performing fieldwork. Join this live webinar to learn more. \nAt this event\, Amelia-Juliette Demery and Monique Pipkin will present their Nature Ecology and Evolution paper titled\, “Safe fieldwork strategies for at-risk individuals\, their supervisors and their institutions” (link to summary story). The paper presentation will be followed by a moderated discussion with inter-disciplinary experts in fieldwork and diversity and inclusion. Participants are encouraged to submit questions upon registration. \nPanelists\n\nDr. Meredith Hastings\, Associate Professor of Environment & Society\, Brown University. Women’s Network President\, PI for AdvanceGeo. Earth Science Women’s Network and AdvanceGeo.\nDr. Christopher J Schell\, Assistant Professor of Urban Ecology\, University of Washington Tacoma. Author of Recreating Wakanda by promoting Black excellence in ecology and evolution.\nDr. Hendratta Ali\, Associate Professor of Geosciences\, Fort Hays State University. Author of Ten Steps to protect BIPOC scholars in the field.\nSara Souza\, Field Safety Specialist\, University of California. Field Research Safety Center of Excellence.\n\nModerators\nAmelia-Juliette Demery: PhD Candidate in Ecology and Evolutionary Biology at Cornell University. Amelia-Juliette is a 3rd year PhD candidate and Sloan Foundation Scholar. She is interested in the genomic mechanisms underlying avian phenotypes and their evolutionary patterns across space and time. \nMonique Pipkin: PhD Student in Ecology and Evolutionary Biology at Cornell University. Monique is a 2nd year PhD student and Sloan Foundation Fellow. Her research focuses on the ultimate and proximate mechanism behind social behavior and social signaling\, and the use of art in science education and outreach. \nEvent Sponsors\nThis event is co-sponsored by Cornell University’s College of Agriculture and Life Sciences Office of Diversity and Inclusion and the Graduate School Office of Inclusion & Student Engagement. This event is supported through funds from the National Science Foundation under Grant No.1647094 (AGEP CIRTL). Any opinions\, findings\, and conclusions or recommendations expressed in this material are those of the authors/organizers and do not necessarily reflect the views of the National Science Foundation. \nCornell University is committed to providing universal access to all of our events. Please contact Hillary Creedon\, hwc37@cornell.edu to request disability accommodations. Advance notice is necessary to arrange for some accessibility needs.
URL:https://futurefaculty.cornell.edu/event/safer-science-strategies-to-protect-at-risk-researchers-when-conducting-fieldwork/
LOCATION:Zoom
CATEGORIES:Future Faculty and Academic Careers
END:VEVENT
END:VCALENDAR