BEGIN:VCALENDAR
VERSION:2.0
PRODID:-//Future Faculty and Academic Careers - ECPv6.15.17.1//NONSGML v1.0//EN
CALSCALE:GREGORIAN
METHOD:PUBLISH
X-WR-CALNAME:Future Faculty and Academic Careers
X-ORIGINAL-URL:https://futurefaculty.cornell.edu
X-WR-CALDESC:Events for Future Faculty and Academic Careers
REFRESH-INTERVAL;VALUE=DURATION:PT1H
X-Robots-Tag:noindex
X-PUBLISHED-TTL:PT1H
BEGIN:VTIMEZONE
TZID:America/New_York
BEGIN:DAYLIGHT
TZOFFSETFROM:-0500
TZOFFSETTO:-0400
TZNAME:EDT
DTSTART:20200308T070000
END:DAYLIGHT
BEGIN:STANDARD
TZOFFSETFROM:-0400
TZOFFSETTO:-0500
TZNAME:EST
DTSTART:20201101T060000
END:STANDARD
BEGIN:DAYLIGHT
TZOFFSETFROM:-0500
TZOFFSETTO:-0400
TZNAME:EDT
DTSTART:20210314T070000
END:DAYLIGHT
BEGIN:STANDARD
TZOFFSETFROM:-0400
TZOFFSETTO:-0500
TZNAME:EST
DTSTART:20211107T060000
END:STANDARD
BEGIN:DAYLIGHT
TZOFFSETFROM:-0500
TZOFFSETTO:-0400
TZNAME:EDT
DTSTART:20220313T070000
END:DAYLIGHT
BEGIN:STANDARD
TZOFFSETFROM:-0400
TZOFFSETTO:-0500
TZNAME:EST
DTSTART:20221106T060000
END:STANDARD
END:VTIMEZONE
BEGIN:VEVENT
DTSTART;TZID=America/New_York:20210416T000000
DTEND;TZID=America/New_York:20210418T233000
DTSTAMP:20260421T020049
CREATED:20210330T221743Z
LAST-MODIFIED:20250129T015458Z
UID:10002243-1618531200-1618788600@futurefaculty.cornell.edu
SUMMARY:Picture a Scientist – Film Viewing Available
DESCRIPTION:From April 16-18\, the Cornell community is invited to screen the award-winning documentary film\, Picture a Scientist\, chronicling the groundswell of researchers writing a new chapter for women scientists. Biologist Nancy Hopkins\, chemist Raychelle Burks\, and geologist Jane Willenbring lead viewers on a journey deep into their own experiences in the sciences\, ranging from brutal harassment to years of subtle slights. Along the way\, from cramped laboratories to spectacular field stations\, we encounter scientific luminaries – including social scientists\, neuroscientists\, and psychologists – who provide new perspectives on how to make science itself more diverse\, equitable\, and open to all. \nThe film is available for virtual screening from April 16-18. On Monday\, April 19\, 2021 from 3:30-5:00pm ET\, a related panel discussion will be held featuring faculty and staff who will discuss bias and harassment in academic environments\, and strategies for driving positive systemic and structural change within and beyond Cornell. \nThis public event is open to all and registration is required. Real-time captioning will be provided for the panel discussion. \n\nCornell Events Calendar listing\nOffice of Faculty Development and Diversity resource page\n\nSponsorship\nThis film screening and panel discussion are co-sponsored by the College of Veterinary Medicine’s Office of Inclusion and Academic Excellence\, HHMI-Cornell University Research Transfer (CURT) program\, Cornell University-Initiative for Maximizing Student Development (IMSD)\, the Office of Faculty Development and Diversity\, the Graduate School Office of Inclusion and Student Engagement\, Program for Achieving Career Excellence and Cornell Rising Stars\, the Center for Bright Beams\, in collaboration with the Department of Earth & Atmospheric Sciences\, Department of Chemistry & Chemical Biology\, Department of Physics Women in Physics\, and Project Biodiversify/QGrads and the Paleontological Research Institution/Museum of the Earth. \nThis webinar is in part supported through funds from the National Science Foundation Grant Nos. HRD-1647094 and PHY-1549132. Any opinions\, findings\, and conclusions\, or recommendations expressed in this material are those of the authors/organizers and do not necessarily reflect the views of the National Science Foundation.
URL:https://futurefaculty.cornell.edu/event/picture-a-scientist-film-viewing-available/
LOCATION:Online
CATEGORIES:Future Faculty and Academic Careers
END:VEVENT
BEGIN:VEVENT
DTSTART;TZID=America/New_York:20210419T153000
DTEND;TZID=America/New_York:20210419T170000
DTSTAMP:20260421T020049
CREATED:20210329T221115Z
LAST-MODIFIED:20250129T014901Z
UID:10002242-1618846200-1618851600@futurefaculty.cornell.edu
SUMMARY:Picture a Scientist – Panel Discussion
DESCRIPTION:From April 16-18\, the Cornell community is invited to screen the award-winning documentary film\, Picture a Scientist\, chronicling the groundswell of researchers writing a new chapter for women scientists. Biologist Nancy Hopkins\, chemist Raychelle Burks\, and geologist Jane Willenbring lead viewers on a journey deep into their own experiences in the sciences\, ranging from brutal harassment to years of subtle slights. Along the way\, from cramped laboratories to spectacular field stations\, we encounter scientific luminaries – including social scientists\, neuroscientists\, and psychologists – who provide new perspectives on how to make science itself more diverse\, equitable\, and open to all. \nThe film is available for virtual screening from April 16-18. On Monday\, April 19\, 2021 from 3:30-5:00pm ET\, a facilitated discussion will be held featuring panelists who will discuss navigating bias and harassment in academic environments\, approaches for practicing critical forms of allyship\, and strategies for driving positive systemic and structural change within and beyond Cornell. \nApril 19 Panel Information\nPanelists: \n\nDr. Cynthia Leifer\, Professor of Immunology\, Department of Microbiology and Immunology\, College of Veterinary Medicine (Moderator)\nDr. Hector Aguilar-Carreno\, Associate Professor in the Department of Microbiology and Immunology\, College of Veterinary Medicine\nLauren Branchini\, Deputy Title IX Coordinator\, Cornell University\nDr. Kelly Kryc\, Director of Ocean Policy\, New England Aquarium\nChristopher Lujan\, Associate Dean of Students and Director\, LGBT Resource Center\nDr. Corrie Moreau\, Martha N. and John C. Moser Professor of Arthropod Biosystematics and Biodiversity\, Department of Entomology\nDr. Marjolein van der Meulen\, James M. and Marsha McCormick Director of Biomedical Engineering and Swanson Professor of Biomedical Engineering\n\nThis public event is open to all and registration is required. Real-time captioning will be provided for the panel discussion. \n\nCornell Events Calendar listing\nOffice of Faculty Development and Diversity resource page\n\nSponsorship\nThis film screening and panel discussion are co-sponsored by the College of Veterinary Medicine’s Office of Inclusion and Academic Excellence\, HHMI-Cornell University Research Transfer (CURT) program\, Cornell University-Initiative for Maximizing Student Development (IMSD)\, the Office of Faculty Development and Diversity\, the Graduate School Office of Inclusion and Student Engagement\, Program for Achieving Career Excellence and Cornell Rising Stars\, the Center for Bright Beams\, in collaboration with the Department of Earth & Atmospheric Sciences\, Department of Chemistry & Chemical Biology\, Department of Physics Women in Physics\, and Project Biodiversify/QGrads and the Paleontological Research Institution/Museum of the Earth. \nThis webinar is in part supported through funds from the National Science Foundation Grant Nos. HRD-1647094 and PHY-1549132. Any opinions\, findings\, and conclusions\, or recommendations expressed in this material are those of the authors/organizers and do not necessarily reflect the views of the National Science Foundation.
URL:https://futurefaculty.cornell.edu/event/panel-discussion-of-picture-a-scientist-film/
LOCATION:Zoom
CATEGORIES:Future Faculty and Academic Careers
END:VEVENT
BEGIN:VEVENT
DTSTART;TZID=America/New_York:20210420T130000
DTEND;TZID=America/New_York:20210420T140000
DTSTAMP:20260421T020049
CREATED:20210323T211413Z
LAST-MODIFIED:20221010T224555Z
UID:10002240-1618923600-1618927200@futurefaculty.cornell.edu
SUMMARY:Job Search Virtual Monthly Discussion
DESCRIPTION:The Job Search Virtual Monthly Discussion is designed to get job seekers together to talk about concerns that graduate students and postdocs share\, and strategize about how to move forward. Each session will begin with a brief introduction that includes tips\, perspectives\, and thoughts from staff who support career exploration within and beyond academia. After this information is shared\, participants will have the opportunity to ask questions they have and share best practices that work for them. We want to create a safe space for everyone to talk and listen. Please come join us and hear from each other! \nRegister for April 20 \nDate & Time: Tuesday\, April 20 from 1:00 – 2:00 pm ET\nLocation: Zoom link to be provided upon registration \nFacilitators: Christine Holmes\, Postdoctoral Studies Director\, Caleb Yu\, Graduate and International Student Career Advisor\, Colleen McLinn\, Executive Director of Future Faculty and Academic Careers\, Denise DiRienzo\, Experiential Program Director of Careers Beyond Academia\, Susi Varvayanis\, Executive Director of Careers Beyond Academia \nAccommodations: We strive to make our events accessible to all community members. Individuals who would like to request accessibility accommodations should contact futurefaculty@cornell.edu. We ask that requests be made at least one week in advance to help ensure they can be met.
URL:https://futurefaculty.cornell.edu/event/job-search-virtual-monthly-discussion/
LOCATION:Zoom
CATEGORIES:Careers Beyond Academia,Future Faculty and Academic Careers
ATTACH;FMTTYPE=image/png:https://futurefaculty.cornell.edu/wp-content/uploads/2020/08/Summer-Job-Search-Discussions-e1597717600555-6LYZDn.tmp_.png
END:VEVENT
END:VCALENDAR