BEGIN:VCALENDAR
VERSION:2.0
PRODID:-//Future Faculty and Academic Careers - ECPv6.15.17.1//NONSGML v1.0//EN
CALSCALE:GREGORIAN
METHOD:PUBLISH
X-ORIGINAL-URL:https://futurefaculty.cornell.edu
X-WR-CALDESC:Events for Future Faculty and Academic Careers
REFRESH-INTERVAL;VALUE=DURATION:PT1H
X-Robots-Tag:noindex
X-PUBLISHED-TTL:PT1H
BEGIN:VTIMEZONE
TZID:America/New_York
BEGIN:DAYLIGHT
TZOFFSETFROM:-0500
TZOFFSETTO:-0400
TZNAME:EDT
DTSTART:20200308T070000
END:DAYLIGHT
BEGIN:STANDARD
TZOFFSETFROM:-0400
TZOFFSETTO:-0500
TZNAME:EST
DTSTART:20201101T060000
END:STANDARD
BEGIN:DAYLIGHT
TZOFFSETFROM:-0500
TZOFFSETTO:-0400
TZNAME:EDT
DTSTART:20210314T070000
END:DAYLIGHT
BEGIN:STANDARD
TZOFFSETFROM:-0400
TZOFFSETTO:-0500
TZNAME:EST
DTSTART:20211107T060000
END:STANDARD
BEGIN:DAYLIGHT
TZOFFSETFROM:-0500
TZOFFSETTO:-0400
TZNAME:EDT
DTSTART:20220313T070000
END:DAYLIGHT
BEGIN:STANDARD
TZOFFSETFROM:-0400
TZOFFSETTO:-0500
TZNAME:EST
DTSTART:20221106T060000
END:STANDARD
END:VTIMEZONE
BEGIN:VEVENT
DTSTART;TZID=America/New_York:20210513T140000
DTEND;TZID=America/New_York:20210513T150000
DTSTAMP:20260421T020349
CREATED:20210429T214356Z
LAST-MODIFIED:20221003T200239Z
UID:10002248-1620914400-1620918000@futurefaculty.cornell.edu
SUMMARY:NCFDD Webinar: Every Summer Needs a Plan
DESCRIPTION:Do you often start the summer with high hopes for your writing projects\, but end disappointed by your actual productivity?\nDo you desperately want (or need) to write a lot this summer?\nDo you want to figure out how to be more productive AND enjoy your life this summer?\n\nJoin us for a hands-on planning webinar! We offer our planning webinar at the beginning of each term so that you can take time out of your schedule to identify your personal and professional goals for the summer\, create a strategic plan to accomplish them\, and identify the types of community\, support\, and accountability you need to make this your most productive and balanced summer ever! Get ready to create a work-plan for your summer that you can immediately share with your mentors. \nFree Individual Memberships for the National Center for Faculty Development & Diversity (NCFDD)\nAvailable to all Cornell students\, postdocs\, faculty\, and staff \n \nCornell is an institutional member of the National Center for Faculty Development & Diversity (NCFDD)\, a nationally recognized\, independent organization providing online career development and mentoring resources. The NCFDD provides members with access to tools to increase research and writing productivity and improve work-life balance. \nActivate your account by following the steps below: \n\nGo to the NCFDD website\nUnder “Select Your Institution\,” choose “Cornell University”\nSelect “Activate my Membership”\nComplete the registration form using your Cornell email address\nCheck your Cornell email account to find a confirmation/welcome email. Click “Activate Account” in the email
URL:https://futurefaculty.cornell.edu/event/ncfdd-webinar-every-summer-needs-a-plan/
LOCATION:Webinar
CATEGORIES:Future Faculty and Academic Careers
ATTACH;FMTTYPE=image/jpeg:https://futurefaculty.cornell.edu/wp-content/uploads/2020/02/ncfdd_200x.jpg
END:VEVENT
END:VCALENDAR