BEGIN:VCALENDAR
VERSION:2.0
PRODID:-//Future Faculty and Academic Careers - ECPv6.15.17.1//NONSGML v1.0//EN
CALSCALE:GREGORIAN
METHOD:PUBLISH
X-ORIGINAL-URL:https://futurefaculty.cornell.edu
X-WR-CALDESC:Events for Future Faculty and Academic Careers
REFRESH-INTERVAL;VALUE=DURATION:PT1H
X-Robots-Tag:noindex
X-PUBLISHED-TTL:PT1H
BEGIN:VTIMEZONE
TZID:America/New_York
BEGIN:DAYLIGHT
TZOFFSETFROM:-0500
TZOFFSETTO:-0400
TZNAME:EDT
DTSTART:20200308T070000
END:DAYLIGHT
BEGIN:STANDARD
TZOFFSETFROM:-0400
TZOFFSETTO:-0500
TZNAME:EST
DTSTART:20201101T060000
END:STANDARD
BEGIN:DAYLIGHT
TZOFFSETFROM:-0500
TZOFFSETTO:-0400
TZNAME:EDT
DTSTART:20210314T070000
END:DAYLIGHT
BEGIN:STANDARD
TZOFFSETFROM:-0400
TZOFFSETTO:-0500
TZNAME:EST
DTSTART:20211107T060000
END:STANDARD
BEGIN:DAYLIGHT
TZOFFSETFROM:-0500
TZOFFSETTO:-0400
TZNAME:EDT
DTSTART:20220313T070000
END:DAYLIGHT
BEGIN:STANDARD
TZOFFSETFROM:-0400
TZOFFSETTO:-0500
TZNAME:EST
DTSTART:20221106T060000
END:STANDARD
END:VTIMEZONE
BEGIN:VEVENT
DTSTART;TZID=America/New_York:20210525T110000
DTEND;TZID=America/New_York:20210525T120000
DTSTAMP:20260421T020344
CREATED:20210420T205939Z
LAST-MODIFIED:20221010T224554Z
UID:10002245-1621940400-1621944000@futurefaculty.cornell.edu
SUMMARY:Job Search Virtual Monthly Discussion
DESCRIPTION:The Job Search Virtual Monthly Discussion is designed to get job seekers together to talk about concerns that graduate students and postdocs share\, and strategize about how to move forward. Each session will begin with a brief introduction that includes tips\, perspectives\, and thoughts from staff who support career exploration within and beyond academia. After this information is shared\, participants will have the opportunity to ask questions they have and share best practices that work for them. We want to create a safe space for everyone to talk and listen. Please come join us and hear from each other! \nRegister for May 25 \nDate & Time: Tuesday\, May 25 from 11:00  am – 12:00 pm ET\nLocation: Zoom link to be provided upon registration \nFacilitators: Christine Holmes\, Postdoctoral Studies Director\, Caleb Yu\, Graduate and International Student Career Advisor\, Colleen McLinn\, Executive Director of Future Faculty and Academic Careers\, Denise DiRienzo\, Experiential Program Director of Careers Beyond Academia\, Susi Varvayanis\, Executive Director of Careers Beyond Academia \nAccommodations: We strive to make our events accessible to all community members. Individuals who would like to request accessibility accommodations should contact gradcareers@cornell.edu.We ask that requests be made at least one week in advance to help ensure they can be met.
URL:https://futurefaculty.cornell.edu/event/job-search-virtual-monthly-discussion-2/
LOCATION:Zoom
CATEGORIES:Careers Beyond Academia,Future Faculty and Academic Careers
ATTACH;FMTTYPE=image/png:https://futurefaculty.cornell.edu/wp-content/uploads/2020/08/Screen-Shot-2020-05-01-at-12.00.46-PM-copy-1-822x313-1-e1597171616620-QPtlV2.tmp_.png
END:VEVENT
BEGIN:VEVENT
DTSTART;TZID=America/New_York:20210525T140000
DTEND;TZID=America/New_York:20210525T150000
DTSTAMP:20260421T020344
CREATED:20210429T214356Z
LAST-MODIFIED:20221003T200239Z
UID:10002249-1621951200-1621954800@futurefaculty.cornell.edu
SUMMARY:NCFDD Webinar: Strategies for Academics Managing Careers and Caretaking during the Pandemic (and Beyond…)
DESCRIPTION:This session focuses on the barriers and strategies that academics with caregiving responsibilities are using to survive academic careers and personal life during COVID. Academics who are caregivers have been particularly affected by the pandemic as the move to working from home\, the shift to flexible teaching\, and the isolation caused by the pandemic. This has been particularly acute for those with caregiving responsibilities – especially those with school aged and younger children and those taking care of elderly relatives. Based on interviews with faculty members who are in non-traditional family structures (i.e.\, single parents\, LGBTQI* families\, divorced and blended families\, multigenerational families)\, this session will provide an understanding of why this has been so difficult\, a discussion of how to manage the demands\, and a discussion of personal and institutional strategies designed to help both in the immediate situation as well as with a longer term view. \nParticipant Outcomes: \n\nAn understanding that you are not alone and that there are others who are experiencing similar concerns\nAn opportunity to explore these issues for all caregivers with inclusion of those who are in single parent households\, blended families\, divorced parents\, LGBTQI families\nDiscussion of both short and long term implications of COVID-19 on caregivers\nDiscussion of individual coping strategies as well as more systemic fixes for the problem (both short and long term)\n\nFree Individual Memberships for the National Center for Faculty Development & Diversity (NCFDD)\nAvailable to all Cornell students\, postdocs\, faculty\, and staff \n \nCornell is an institutional member of the National Center for Faculty Development & Diversity (NCFDD)\, a nationally recognized\, independent organization providing online career development and mentoring resources. The NCFDD provides members with access to tools to increase research and writing productivity and improve work-life balance. \nActivate your account by following the steps below: \n\nGo to the NCFDD website\nUnder “Select Your Institution\,” choose “Cornell University”\nSelect “Activate my Membership”\nComplete the registration form using your Cornell email address\nCheck your Cornell email account to find a confirmation/welcome email. Click “Activate Account” in the email
URL:https://futurefaculty.cornell.edu/event/ncfdd-webinar-strategies-for-academics-managing-careers-and-caretaking-during-the-pandemic-and-beyond/
LOCATION:Webinar
CATEGORIES:Future Faculty and Academic Careers
ATTACH;FMTTYPE=image/jpeg:https://futurefaculty.cornell.edu/wp-content/uploads/2020/02/ncfdd_200x.jpg
END:VEVENT
END:VCALENDAR