BEGIN:VCALENDAR
VERSION:2.0
PRODID:-//Future Faculty and Academic Careers - ECPv6.15.17.1//NONSGML v1.0//EN
CALSCALE:GREGORIAN
METHOD:PUBLISH
X-WR-CALNAME:Future Faculty and Academic Careers
X-ORIGINAL-URL:https://futurefaculty.cornell.edu
X-WR-CALDESC:Events for Future Faculty and Academic Careers
REFRESH-INTERVAL;VALUE=DURATION:PT1H
X-Robots-Tag:noindex
X-PUBLISHED-TTL:PT1H
BEGIN:VTIMEZONE
TZID:America/New_York
BEGIN:DAYLIGHT
TZOFFSETFROM:-0500
TZOFFSETTO:-0400
TZNAME:EDT
DTSTART:20200308T070000
END:DAYLIGHT
BEGIN:STANDARD
TZOFFSETFROM:-0400
TZOFFSETTO:-0500
TZNAME:EST
DTSTART:20201101T060000
END:STANDARD
BEGIN:DAYLIGHT
TZOFFSETFROM:-0500
TZOFFSETTO:-0400
TZNAME:EDT
DTSTART:20210314T070000
END:DAYLIGHT
BEGIN:STANDARD
TZOFFSETFROM:-0400
TZOFFSETTO:-0500
TZNAME:EST
DTSTART:20211107T060000
END:STANDARD
BEGIN:DAYLIGHT
TZOFFSETFROM:-0500
TZOFFSETTO:-0400
TZNAME:EDT
DTSTART:20220313T070000
END:DAYLIGHT
BEGIN:STANDARD
TZOFFSETFROM:-0400
TZOFFSETTO:-0500
TZNAME:EST
DTSTART:20221106T060000
END:STANDARD
END:VTIMEZONE
BEGIN:VEVENT
DTSTART;VALUE=DATE:20210601
DTEND;VALUE=DATE:20210602
DTSTAMP:20260421T003030
CREATED:20200512T192417Z
LAST-MODIFIED:20221003T200305Z
UID:10002165-1622505600-1622591999@futurefaculty.cornell.edu
SUMMARY:Teaching and Learning in the Diverse Classroom Begins
DESCRIPTION:Running from June 1-30\, 2021\, Teaching and Learning in the Diverse Classroom is a four-week\, instructor-paced online course for anyone with teaching responsibilities at Cornell\, at any level of diversity expertise. Modules explore strategies for inclusive course design\, social identity and self-reflection\, and pedagogical practices that effectively support student engagement and a sense of belonging across difference. \nThe course includes videos\, activities\, readings\, and opportunities for discussion with peers within the Cornell community. In addition to inclusive course design and teaching strategies\, participants will be invited to reflect on their own formative experiences as learners\, teachers\, and members of disciplines. \nYou are welcome to take the course solo\, or we also encourage you to take it with a friend or group of colleagues. If you would like to lead a learning community for your colleagues\, please reach out to indicate your interest. \nThe Center for Teaching Innovation is also offering two online learning community options this summer: \n\nGraduate Students & Postdocs may join the online Learning Community on Inclusive Teaching For Graduate Students & Postdocs co-sponsored by the Graduate School’s Future Faculty and Academic Careers office.\nFaculty may join the online Faculty Learning Community for Inclusive Teaching\n\nRegister for Teaching and Learning in the Diverse Classroom in June 2021.
URL:https://futurefaculty.cornell.edu/event/teaching-and-learning-in-the-diverse-classroom-begins/
LOCATION:Online
CATEGORIES:Future Faculty and Academic Careers
ATTACH;FMTTYPE=image/png:https://futurefaculty.cornell.edu/wp-content/uploads/2020/05/TLDC-image-m3MpDO.tmp_.png
ORGANIZER;CN="Center for Teaching Innovation":MAILTO:cornellcti@cornell.edu
END:VEVENT
BEGIN:VEVENT
DTSTART;TZID=America/New_York:20210602T110000
DTEND;TZID=America/New_York:20210602T123000
DTSTAMP:20260421T003030
CREATED:20210510T224007Z
LAST-MODIFIED:20221003T200239Z
UID:10002252-1622631600-1622637000@futurefaculty.cornell.edu
SUMMARY:2021 Summer P2S Symposium: Executive Presence in a Virtual World
DESCRIPTION:Pathways to Success is the Graduate School’s framework for helping graduate and professional students and postdoctoral scholars be successful in their research and scholarship\, and establish necessary skills for their future careers. \nThe Summer P2S Symposium is a professional development opportunity for doctoral\, professional degree\, and research master’s students and postdoctoral scholars that will provide participants with information and tools useful for their time at Cornell and beyond. Participants may register for an individual session or all sessions offered within this three-part symposium. \nPlenary Session: Executive Presence in a Virtual World\nSession Summary: Virtual meetings are here to stay.  How do you put your best foot forward when you are presented to others in a 1” x 1” Zoom frame?  Learn how what you say and how you say it can impact your ability to be seen as a capable professional when recruiting for jobs\, meeting with others and presenting your ideas on camera or off.  Prof. Noble-Grange will present 10 tips you can practice to present yourself better and make communication one of your strengths. \nPlenary Speaker: Angela Noble Grange\, Senior Lecturer of Management Communication\, Johnson Graduate School of Management\, Cornell University \nP2S Focus Area: Build Your Skills
URL:https://futurefaculty.cornell.edu/event/2021-summer-p2s-symposium-executive-presence-in-a-virtual-world/
LOCATION:Zoom
CATEGORIES:Future Faculty and Academic Careers
ATTACH;FMTTYPE=image/jpeg:https://futurefaculty.cornell.edu/wp-content/uploads/2020/05/pathways-logo-rectangle-with-text-1000x400-hxywA6.tmp_.jpg
END:VEVENT
BEGIN:VEVENT
DTSTART;TZID=America/New_York:20210602T133000
DTEND;TZID=America/New_York:20210602T150000
DTSTAMP:20260421T003030
CREATED:20210505T215628Z
LAST-MODIFIED:20221003T200239Z
UID:10002251-1622640600-1622646000@futurefaculty.cornell.edu
SUMMARY:2021 Summer P2S Symposium: Linguistic and Cultural Diversity as Critical Assets
DESCRIPTION:Pathways to Success is the Graduate School’s framework for helping graduate and professional students and postdoctoral scholars be successful in their research and scholarship\, and establish necessary skills for their future careers. \nThe Summer P2S Symposium is a professional development opportunity for doctoral\, professional degree\, and research master’s students and postdoctoral scholars that will provide participants with information and tools useful for their time at Cornell and beyond. Participants may register for an individual session or all sessions offered within this three-part symposium. \nWorkshop: Linguistic and Cultural Diversity as Critical Assets \nSession Summary: With a large proportion of Cornell’s postdoctoral and graduate student body hailing from other nations\, it’s important to embrace the assets that this linguistic and cultural diversity brings to our campus community. \nPresenter: Jonathan Rosa\, Associate Professor\, Graduate School of Education\, Stanford University  \nP2S Focus Area: Navigate Academia
URL:https://futurefaculty.cornell.edu/event/2021-summer-p2s-series-linguistic-and-cultural-diversity-as-critical-assets/
LOCATION:Zoom
CATEGORIES:Future Faculty and Academic Careers
ATTACH;FMTTYPE=image/jpeg:https://futurefaculty.cornell.edu/wp-content/uploads/2020/05/pathways-logo-rectangle-with-text-1000x400-hxywA6.tmp_.jpg
END:VEVENT
BEGIN:VEVENT
DTSTART;TZID=America/New_York:20210603T110000
DTEND;TZID=America/New_York:20210603T120000
DTSTAMP:20260421T003030
CREATED:20210521T233951Z
LAST-MODIFIED:20221003T200239Z
UID:10002258-1622718000-1622721600@futurefaculty.cornell.edu
SUMMARY:Learning Community on Inclusive Teaching Begins
DESCRIPTION:This is a six-week online program that runs concurrently with the asynchronous Teaching & Learning in the Diverse Classroom course. Participants meet weekly via Zoom to discuss how to create and sustain inclusive learning environments. Identify practical\, evidence-based strategies appropriate for your discipline and future teaching plans. \nApply by May 29 to participate. \nThis program is a collaboration between the Center for Teaching Innovation and the Graduate School’s Future Faculty and Academic Careers office. \n  \nWho may apply?\nGraduate students and postdocs at Cornell. \nDetails\n\nDates: June 3 – July 8\, 2021\nMeeting times: Thursdays\, 11:00 am – 12:00 pm EDT\nTime commitment: Approximately 15-20 hours (6 total hours of virtual meeting time\, plus coursework)\nApply for the learning community here\nYou must be enrolled concurrently in the asynchronous online course\, Teaching & Learning in the Diverse Classroom.\n\nLearning Outcomes\nAt the conclusion of this program\, you will be able to: \n\nexplain why social identities are salient in teaching and learning\nidentify learning strategies that foster inclusion
URL:https://futurefaculty.cornell.edu/event/learning-community-on-inclusive-teaching-begins/
LOCATION:Online
CATEGORIES:Future Faculty and Academic Careers
ORGANIZER;CN="Center for Teaching Innovation":MAILTO:cornellcti@cornell.edu
END:VEVENT
END:VCALENDAR