BEGIN:VCALENDAR
VERSION:2.0
PRODID:-//Future Faculty and Academic Careers - ECPv6.15.17.1//NONSGML v1.0//EN
CALSCALE:GREGORIAN
METHOD:PUBLISH
X-ORIGINAL-URL:https://futurefaculty.cornell.edu
X-WR-CALDESC:Events for Future Faculty and Academic Careers
REFRESH-INTERVAL;VALUE=DURATION:PT1H
X-Robots-Tag:noindex
X-PUBLISHED-TTL:PT1H
BEGIN:VTIMEZONE
TZID:America/New_York
BEGIN:DAYLIGHT
TZOFFSETFROM:-0500
TZOFFSETTO:-0400
TZNAME:EDT
DTSTART:20200308T070000
END:DAYLIGHT
BEGIN:STANDARD
TZOFFSETFROM:-0400
TZOFFSETTO:-0500
TZNAME:EST
DTSTART:20201101T060000
END:STANDARD
BEGIN:DAYLIGHT
TZOFFSETFROM:-0500
TZOFFSETTO:-0400
TZNAME:EDT
DTSTART:20210314T070000
END:DAYLIGHT
BEGIN:STANDARD
TZOFFSETFROM:-0400
TZOFFSETTO:-0500
TZNAME:EST
DTSTART:20211107T060000
END:STANDARD
BEGIN:DAYLIGHT
TZOFFSETFROM:-0500
TZOFFSETTO:-0400
TZNAME:EDT
DTSTART:20220313T070000
END:DAYLIGHT
BEGIN:STANDARD
TZOFFSETFROM:-0400
TZOFFSETTO:-0500
TZNAME:EST
DTSTART:20221106T060000
END:STANDARD
END:VTIMEZONE
BEGIN:VEVENT
DTSTART;TZID=America/New_York:20210622T110000
DTEND;TZID=America/New_York:20210622T151500
DTSTAMP:20260421T003501
CREATED:20210527T202507Z
LAST-MODIFIED:20221003T200238Z
UID:10002260-1624359600-1624374900@futurefaculty.cornell.edu
SUMMARY:Future Professors Institute
DESCRIPTION:Institute Dates: Tuesday and Wednesday\, June 22-23\, 2021\nTimes: 11:00am – 12:30 pm ET; 1:30 – 3:15 pm ET\nLocation: Zoom \nRegistration: https://blogs.cornell.edu/futureprofs/registration-2021/ \nRegistration Priority Date: June 18\, 2021 \nThe Future Professors Institute engages graduate students and postdoctoral scholars in workshops\, panel discussions\, and talks focused on preparing them for faculty careers across institutional types. The primary audience for the institute are Cornell University graduate students and postdocs from backgrounds historically excluded from and underrepresented in the professoriate\, and/or those with a demonstrated commitment to advancing diversity\, inclusion\, access\, and equity in academia. \nAlso invited to participate in the institute are scholars external to Cornell affiliated with the following programs and societies: \n\nSloan University Centers for Exemplary Mentoring\nSloan Indigenous Graduate Partnerships\nEdward A. Bouchet Graduate Honor Society\nScholars supported by CIRTL AGEP funded programs\n\nSponsorship \nThis is a collaborative initiative of the Cornell Graduate School Offices of Future Faculty and Academic Careers\, Inclusion and Student Engagement\, and Postdoctoral Studies\, and is funded in part by the National Science Foundation (grant number 1647094; CIRTL AGEP). \nQuestions?\nPlease direct any questions to: futurefaculty@cornell.edu
URL:https://futurefaculty.cornell.edu/event/future-professors-institute-2/
LOCATION:Online
CATEGORIES:Future Faculty and Academic Careers
ATTACH;FMTTYPE=image/jpeg:https://futurefaculty.cornell.edu/wp-content/uploads/2019/04/FPI-2018-speakers.jpg
ORGANIZER;CN="Future Faculty and Academic Careers":MAILTO:futurefaculty@cornell.edu
END:VEVENT
BEGIN:VEVENT
DTSTART;TZID=America/New_York:20210623T110000
DTEND;TZID=America/New_York:20210623T151500
DTSTAMP:20260421T003501
CREATED:20210527T202507Z
LAST-MODIFIED:20221003T200238Z
UID:10002261-1624446000-1624461300@futurefaculty.cornell.edu
SUMMARY:Future Professors Institute
DESCRIPTION:Institute Dates: Tuesday and Wednesday\, June 22-23\, 2021\nTimes: 11:00am – 12:30 pm ET; 1:30 – 3:15 pm ET\nLocation: Zoom \nRegistration: https://blogs.cornell.edu/futureprofs/registration-2021/ \nRegistration Priority Date: June 18\, 2021 \nThe Future Professors Institute engages graduate students and postdoctoral scholars in workshops\, panel discussions\, and talks focused on preparing them for faculty careers across institutional types. The primary audience for the institute are Cornell University graduate students and postdocs from backgrounds historically excluded from and underrepresented in the professoriate\, and/or those with a demonstrated commitment to advancing diversity\, inclusion\, access\, and equity in academia. \nAlso invited to participate in the institute are scholars external to Cornell affiliated with the following programs and societies: \n\nSloan University Centers for Exemplary Mentoring\nSloan Indigenous Graduate Partnerships\nEdward A. Bouchet Graduate Honor Society\nScholars supported by CIRTL AGEP funded programs\n\nSponsorship \nThis is a collaborative initiative of the Cornell Graduate School Offices of Future Faculty and Academic Careers\, Inclusion and Student Engagement\, and Postdoctoral Studies\, and is funded in part by the National Science Foundation (grant number 1647094; CIRTL AGEP). \nQuestions?\nPlease direct any questions to: futurefaculty@cornell.edu
URL:https://futurefaculty.cornell.edu/event/future-professors-institute-3/
LOCATION:Online
CATEGORIES:Future Faculty and Academic Careers
ATTACH;FMTTYPE=image/jpeg:https://futurefaculty.cornell.edu/wp-content/uploads/2019/04/FPI-2018-speakers.jpg
ORGANIZER;CN="Future Faculty and Academic Careers":MAILTO:futurefaculty@cornell.edu
END:VEVENT
BEGIN:VEVENT
DTSTART;TZID=America/New_York:20210625T130000
DTEND;TZID=America/New_York:20210625T143000
DTSTAMP:20260421T003501
CREATED:20210513T231040Z
LAST-MODIFIED:20221003T200239Z
UID:10002256-1624626000-1624631400@futurefaculty.cornell.edu
SUMMARY:Equity Changemaking in the Classroom and Beyond
DESCRIPTION:Graduate students and postdoctoral scholars have been contributing in meaningful ways to making teaching spaces across Cornell more equitable and inclusive during the challenging 2020-21 academic year. We have invited a panel to present four change-making projects and discuss the story of how they made these projects happen. Following the panel presentations\, we will hold small-group discussions for self-empowerment\, networking\, and building collective capacity for action towards greater equity and inclusion. \nThis event is co-sponsored by the Center for Teaching Innovation and the Graduate School. \nRegistration\nDate & time: Friday\, June 25\, 2021\, 1:00 – 2:30 p.m. \nThis event will take place virtually via Zoom. \nRegister for Equity Changemaking in the Classroom and Beyond \nGoals\nThis is an opportunity for members of the Cornell community to take their knowledge about equity and inclusion in learning spaces and enter into a dialogue on how use it to work toward change. We hope that this event will: \n\ndemystify the process of moving from passive to active changemaking\nsupport participants in inspiring others to care about equity and inclusion\ngive participants an opportunity to reflect on how to use their sphere of influence\nhelp participants work to create a climate where people can learn and grow\nprovide an opportunity for discussion/community-building
URL:https://futurefaculty.cornell.edu/event/equity-changemaking-in-the-classroom-and-beyond/
LOCATION:Zoom
CATEGORIES:Future Faculty and Academic Careers
ATTACH;FMTTYPE=image/png:https://futurefaculty.cornell.edu/wp-content/uploads/2020/05/TLDC-image-m3MpDO.tmp_.png
ORGANIZER;CN="Center for Teaching Innovation":MAILTO:cornellcti@cornell.edu
END:VEVENT
END:VCALENDAR