BEGIN:VCALENDAR
VERSION:2.0
PRODID:-//Future Faculty and Academic Careers - ECPv6.15.17.1//NONSGML v1.0//EN
CALSCALE:GREGORIAN
METHOD:PUBLISH
X-ORIGINAL-URL:https://futurefaculty.cornell.edu
X-WR-CALDESC:Events for Future Faculty and Academic Careers
REFRESH-INTERVAL;VALUE=DURATION:PT1H
X-Robots-Tag:noindex
X-PUBLISHED-TTL:PT1H
BEGIN:VTIMEZONE
TZID:America/New_York
BEGIN:DAYLIGHT
TZOFFSETFROM:-0500
TZOFFSETTO:-0400
TZNAME:EDT
DTSTART:20200308T070000
END:DAYLIGHT
BEGIN:STANDARD
TZOFFSETFROM:-0400
TZOFFSETTO:-0500
TZNAME:EST
DTSTART:20201101T060000
END:STANDARD
BEGIN:DAYLIGHT
TZOFFSETFROM:-0500
TZOFFSETTO:-0400
TZNAME:EDT
DTSTART:20210314T070000
END:DAYLIGHT
BEGIN:STANDARD
TZOFFSETFROM:-0400
TZOFFSETTO:-0500
TZNAME:EST
DTSTART:20211107T060000
END:STANDARD
BEGIN:DAYLIGHT
TZOFFSETFROM:-0500
TZOFFSETTO:-0400
TZNAME:EDT
DTSTART:20220313T070000
END:DAYLIGHT
BEGIN:STANDARD
TZOFFSETFROM:-0400
TZOFFSETTO:-0500
TZNAME:EST
DTSTART:20221106T060000
END:STANDARD
END:VTIMEZONE
BEGIN:VEVENT
DTSTART;TZID=America/New_York:20210707T120000
DTEND;TZID=America/New_York:20210707T133000
DTSTAMP:20260420T212403
CREATED:20210609T213914Z
LAST-MODIFIED:20221003T200238Z
UID:10002263-1625659200-1625664600@futurefaculty.cornell.edu
SUMMARY:Developing a Narrative for Your Teaching Statement
DESCRIPTION:Through presentation and discussion\, we will explore essential elements of a teaching statement for an academic job application. You’ll leave prepared to start your first draft Teaching Statement or to revise an existing one to make sure it accurately reflects your beliefs and experience. Presenters: Dr. Derina Samuel\, Associate Director for Graduate Student Development\, Center for Teaching Innovation\, and Dr. Colleen McLinn\, Executive Director of Future Faculty and Academic Careers\, Cornell Graduate School. \n\nPre-registration is required in order to receive the link to participate via Zoom. Register for July 7 \nCo-sponsored by the Center for Teaching Innovation\, Future Faculty and Academic Careers\, and the Office of Postdoctoral Studies\, as part of the Graduate School’s Academic Job Search Series. \nAccommodations: We strive to make our events accessible to all Cornell community members. Individuals who have accessibility accommodations to request should contact futurefaculty@cornell.edu. We ask that requests be made at least one week in advance to help ensure they can be met.
URL:https://futurefaculty.cornell.edu/event/developing-a-narrative-for-your-teaching-statement-2/
LOCATION:Zoom
CATEGORIES:Future Faculty and Academic Careers
ATTACH;FMTTYPE=image/jpeg:https://futurefaculty.cornell.edu/wp-content/uploads/2019/06/IMG_1300.jpeg
ORGANIZER;CN="Future Faculty and Academic Careers":MAILTO:futurefaculty@cornell.edu
END:VEVENT
END:VCALENDAR