BEGIN:VCALENDAR
VERSION:2.0
PRODID:-//Future Faculty and Academic Careers - ECPv6.15.17.1//NONSGML v1.0//EN
CALSCALE:GREGORIAN
METHOD:PUBLISH
X-WR-CALNAME:Future Faculty and Academic Careers
X-ORIGINAL-URL:https://futurefaculty.cornell.edu
X-WR-CALDESC:Events for Future Faculty and Academic Careers
REFRESH-INTERVAL;VALUE=DURATION:PT1H
X-Robots-Tag:noindex
X-PUBLISHED-TTL:PT1H
BEGIN:VTIMEZONE
TZID:America/New_York
BEGIN:DAYLIGHT
TZOFFSETFROM:-0500
TZOFFSETTO:-0400
TZNAME:EDT
DTSTART:20200308T070000
END:DAYLIGHT
BEGIN:STANDARD
TZOFFSETFROM:-0400
TZOFFSETTO:-0500
TZNAME:EST
DTSTART:20201101T060000
END:STANDARD
BEGIN:DAYLIGHT
TZOFFSETFROM:-0500
TZOFFSETTO:-0400
TZNAME:EDT
DTSTART:20210314T070000
END:DAYLIGHT
BEGIN:STANDARD
TZOFFSETFROM:-0400
TZOFFSETTO:-0500
TZNAME:EST
DTSTART:20211107T060000
END:STANDARD
BEGIN:DAYLIGHT
TZOFFSETFROM:-0500
TZOFFSETTO:-0400
TZNAME:EDT
DTSTART:20220313T070000
END:DAYLIGHT
BEGIN:STANDARD
TZOFFSETFROM:-0400
TZOFFSETTO:-0500
TZNAME:EST
DTSTART:20221106T060000
END:STANDARD
END:VTIMEZONE
BEGIN:VEVENT
DTSTART;TZID=America/New_York:20211025T160000
DTEND;TZID=America/New_York:20211025T173000
DTSTAMP:20260420T181703
CREATED:20211015T202421Z
LAST-MODIFIED:20221003T200234Z
UID:10002277-1635177600-1635183000@futurefaculty.cornell.edu
SUMMARY:NextGen Professors: October Cohort Meeting
DESCRIPTION:This is an invitation-only event for applicants who have been accepted to participate in this year’s NextGen Professors cohort. \nNextGen Professors is a career-development program focused on preparing Cornell doctoral students and postdocs for faculty careers across institutional types. The primary audience for this program is doctoral students (in year 3 or beyond) and postdocs from backgrounds historically underrepresented in the professoriate\, and/or those with a demonstrated commitment to advancing diversity\, inclusion\, access and equity in the academy. Participants accepted to this selective\, application-based program are members of a cohort who together engage in series of professional and career development activities including monthly NextGen Professors cohort meetings\, Power Mentoring Sessions with faculty\, and the biennial Future Professors Institute. Participants also engage in the future faculty development programming from the Graduate School’s Future Faculty and Academic Careers office. \nOctober meeting topic: Kickoff Meeting and Navigating Academia Professionally and Personally \nLocation: TBA to program participants \nPlease contact Graduate School Associate Dean for Inclusion & Student Engagement Sara Xayarath Hernández (sh267@cornell.edu) or Future Faculty and Academic Careers Executive Director Colleen McLinn (cmm252@cornell.edu) with questions about this opportunity.
URL:https://futurefaculty.cornell.edu/event/nextgen-professors-october-cohort-meeting-3/
CATEGORIES:Future Faculty and Academic Careers
ATTACH;FMTTYPE=image/jpeg:https://futurefaculty.cornell.edu/wp-content/uploads/2019/09/IMG_1370-1.jpg
END:VEVENT
END:VCALENDAR