BEGIN:VCALENDAR
VERSION:2.0
PRODID:-//Future Faculty and Academic Careers - ECPv6.15.17.1//NONSGML v1.0//EN
CALSCALE:GREGORIAN
METHOD:PUBLISH
X-WR-CALNAME:Future Faculty and Academic Careers
X-ORIGINAL-URL:https://futurefaculty.cornell.edu
X-WR-CALDESC:Events for Future Faculty and Academic Careers
REFRESH-INTERVAL;VALUE=DURATION:PT1H
X-Robots-Tag:noindex
X-PUBLISHED-TTL:PT1H
BEGIN:VTIMEZONE
TZID:America/New_York
BEGIN:DAYLIGHT
TZOFFSETFROM:-0500
TZOFFSETTO:-0400
TZNAME:EDT
DTSTART:20200308T070000
END:DAYLIGHT
BEGIN:STANDARD
TZOFFSETFROM:-0400
TZOFFSETTO:-0500
TZNAME:EST
DTSTART:20201101T060000
END:STANDARD
BEGIN:DAYLIGHT
TZOFFSETFROM:-0500
TZOFFSETTO:-0400
TZNAME:EDT
DTSTART:20210314T070000
END:DAYLIGHT
BEGIN:STANDARD
TZOFFSETFROM:-0400
TZOFFSETTO:-0500
TZNAME:EST
DTSTART:20211107T060000
END:STANDARD
BEGIN:DAYLIGHT
TZOFFSETFROM:-0500
TZOFFSETTO:-0400
TZNAME:EDT
DTSTART:20220313T070000
END:DAYLIGHT
BEGIN:STANDARD
TZOFFSETFROM:-0400
TZOFFSETTO:-0500
TZNAME:EST
DTSTART:20221106T060000
END:STANDARD
END:VTIMEZONE
BEGIN:VEVENT
DTSTART;TZID=America/New_York:20211130T140000
DTEND;TZID=America/New_York:20211130T153000
DTSTAMP:20260420T134700
CREATED:20210914T201000Z
LAST-MODIFIED:20221003T200236Z
UID:10002270-1638280800-1638286200@futurefaculty.cornell.edu
SUMMARY:NCFDD Webinar: Overcoming by Understanding Academic Writer’s Block
DESCRIPTION:In this webinar\, Dra. Aurora Chang addresses the state of immobility and powerlessness when writing feels impossible – also known as writer’s block. She focuses on the stories we tell ourselves about who we are as academic writers and how that narration deeply impacts our perceived ability to write. She asks the broad question – how do we revise our self-narratives so that writing feels freeing rather than confining? She also asks the specific question – what are simple\, practical ways to overcome academic writing blocks when they hit? The main takeaway? Understanding the roots of your writing block is at the crux of overcoming it. \nBy the end of the webinar\, you will: \n\nReflect on the relationship between academic writing and your personal identity \nUnderstand and re-narrate the stories you tell about your writing identity \nLearn short-term and long-term ways to conquer academic writing blocks. \n\nPresenter Details\nDra. Aurora Chang is a once undocumented Guatemalan immigrant turned hyper documented professor of Higher Education at Loyola University Chicago. A graduate of UC Berkeley\, Stanford University\, and The University of Texas at Austin\, she earned her doctoral degree in Curriculum and Instruction with a programmatic focus on Cultural Studies in Education. As a twenty-five-year educator\, she began her career as an English/English as a Second Language high school teacher in the San Francisco Bay Area – the foundation of her career. \nPrior to her role as an assistant professor at Loyola University\, she spent fifteen years in diverse leadership roles that spanned the PreK-20 spectrum as well as public\, private\, and non-profit sectors\, including stints at the College Board\, The University of California at Berkeley\, The University of Texas at Austin\, Beloit College\, and The University of Wyoming. \nDra.’s research centers on the intersection of education\, identity\, and agency within traditionally marginalized communities. Currently\, she focuses on four research areas: (1) Latinx educational experiences with a focus on those that are undocumented\, (2) Multiracially-identified students’ educational experiences\, (3) how educators (K-20) of all backgrounds can effectively reflect upon their pedagogical practices in an effort to serve students of marginalized backgrounds\, and (4) the experiences of Faculty Women of Color in the Academy. \n\nFree Individual Memberships for the National Center for Faculty Development & Diversity (NCFDD)\nAvailable to all Cornell students\, postdocs\, faculty\, and staff \nCornell is an institutional member of the National Center for Faculty Development & Diversity (NCFDD)\, a nationally recognized\, independent organization providing online career development and mentoring resources. The NCFDD provides members with access to tools to increase research and writing productivity and improve work-life balance.  \nActivate your account by following the steps below: \n\nGo to the NCFDD website\nUnder “Select Your Institution\,” choose “Cornell University”\nSelect “Activate my Membership”\nComplete the registration form using your Cornell email address\nCheck your Cornell email account to find a confirmation/welcome email. Click “Activate Account” in the email
URL:https://futurefaculty.cornell.edu/event/ncfdd-webinar-overcoming-by-understanding-academic-writers-block/
LOCATION:Webinar
CATEGORIES:Future Faculty and Academic Careers
ATTACH;FMTTYPE=image/jpeg:https://futurefaculty.cornell.edu/wp-content/uploads/2021/09/NCFDD-3-2-e1631742695205-a1FwYW.tmp_.jpg
END:VEVENT
END:VCALENDAR