BEGIN:VCALENDAR
VERSION:2.0
PRODID:-//Future Faculty and Academic Careers - ECPv6.15.17.1//NONSGML v1.0//EN
CALSCALE:GREGORIAN
METHOD:PUBLISH
X-WR-CALNAME:Future Faculty and Academic Careers
X-ORIGINAL-URL:https://futurefaculty.cornell.edu
X-WR-CALDESC:Events for Future Faculty and Academic Careers
REFRESH-INTERVAL;VALUE=DURATION:PT1H
X-Robots-Tag:noindex
X-PUBLISHED-TTL:PT1H
BEGIN:VTIMEZONE
TZID:America/New_York
BEGIN:DAYLIGHT
TZOFFSETFROM:-0500
TZOFFSETTO:-0400
TZNAME:EDT
DTSTART:20210314T070000
END:DAYLIGHT
BEGIN:STANDARD
TZOFFSETFROM:-0400
TZOFFSETTO:-0500
TZNAME:EST
DTSTART:20211107T060000
END:STANDARD
BEGIN:DAYLIGHT
TZOFFSETFROM:-0500
TZOFFSETTO:-0400
TZNAME:EDT
DTSTART:20220313T070000
END:DAYLIGHT
BEGIN:STANDARD
TZOFFSETFROM:-0400
TZOFFSETTO:-0500
TZNAME:EST
DTSTART:20221106T060000
END:STANDARD
BEGIN:DAYLIGHT
TZOFFSETFROM:-0500
TZOFFSETTO:-0400
TZNAME:EDT
DTSTART:20230312T070000
END:DAYLIGHT
BEGIN:STANDARD
TZOFFSETFROM:-0400
TZOFFSETTO:-0500
TZNAME:EST
DTSTART:20231105T060000
END:STANDARD
END:VTIMEZONE
BEGIN:VEVENT
DTSTART;TZID=America/New_York:20220201T160000
DTEND;TZID=America/New_York:20220201T170000
DTSTAMP:20260420T085339
CREATED:20220118T210918Z
LAST-MODIFIED:20221010T224549Z
UID:10001914-1643731200-1643734800@futurefaculty.cornell.edu
SUMMARY:Information Session on the Three Minute Thesis (3MT)
DESCRIPTION:Learn about the Three-Minute Thesis competition: history\, format\, judging\, prizes\, and how Cornell offers the chance to participate. Organizers will field your questions about competing in an all-virtual competition in Spring 2022. \nRegister online to attend an information session.
URL:https://futurefaculty.cornell.edu/event/information-session-on-the-three-minute-thesis-3mt-2/
LOCATION:Zoom
CATEGORIES:Careers Beyond Academia,Future Faculty and Academic Careers
ATTACH;FMTTYPE=image/png:https://futurefaculty.cornell.edu/wp-content/uploads/2020/08/3MT-video-screen-grab-GKslux.tmp_.png
END:VEVENT
BEGIN:VEVENT
DTSTART;TZID=America/New_York:20220202T100000
DTEND;TZID=America/New_York:20220202T110000
DTSTAMP:20260420T085339
CREATED:20211220T225507Z
LAST-MODIFIED:20221003T200232Z
UID:10002289-1643796000-1643799600@futurefaculty.cornell.edu
SUMMARY:Graduate School Primer Series: Get the Mentoring You Need and Want
DESCRIPTION:A mentor is the most critical relationship for a graduate student. Mentoring begins with understanding what mentoring is and what you hope to get out of the relationship. Through interactive discussion and case studies\, we will discuss how to establish a positive relationship and communicate effectively with your mentors. \nPresenters: Colleen McLinn\, Executive Director for Future Faculty and Academic Careers\, and Sara Xayarath Hernández\, Associate Dean for Inclusion and Student Engagement \nRegister
URL:https://futurefaculty.cornell.edu/event/graduate-school-primer-series-get-the-mentoring-you-need-and-want/
LOCATION:Zoom
CATEGORIES:Future Faculty and Academic Careers
END:VEVENT
BEGIN:VEVENT
DTSTART;TZID=America/New_York:20220202T120000
DTEND;TZID=America/New_York:20220202T130000
DTSTAMP:20260420T085339
CREATED:20220119T212425Z
LAST-MODIFIED:20221010T224548Z
UID:10001916-1643803200-1643806800@futurefaculty.cornell.edu
SUMMARY:Information Session on the Three Minute Thesis (3MT)
DESCRIPTION:Learn about the Three-Minute Thesis competition: history\, format\, judging\, prizes\, and how Cornell offers the chance to participate. Organizers will field your questions about competing in an all-virtual competition in Spring 2022. \nRegister online to attend an information session.
URL:https://futurefaculty.cornell.edu/event/information-session-on-the-three-minute-thesis-3mt-3/
LOCATION:Zoom
CATEGORIES:Careers Beyond Academia,Future Faculty and Academic Careers
ATTACH;FMTTYPE=image/png:https://futurefaculty.cornell.edu/wp-content/uploads/2020/08/3MT-video-screen-grab-GKslux.tmp_.png
END:VEVENT
END:VCALENDAR